Workbook
Name ____F: #N/A
Name ____R: #N/A
Name ___F: #N/A
Name ___R: #N/A
Name __F: #N/A
Name __R: #N/A
Name _F: #N/A
Name _R: #N/A
Name A: #N/A
Name B: #N/A
Name COPA: #N/A
Name D: #N/A
Name E: #N/A
Name Excel_BuiltIn_Print_Titles_1_1: [1]ISSyS!#REF!
Name Excel_BuiltIn_Print_Titles_1_1: [1]ISSyS!#REF!
Name G: #N/A
Name H: #N/A
Name J: #N/A
Name K: #N/A
Name L_: #N/A
Name M: #N/A
Name N: #N/A
Name O: #N/A
Name P: #N/A
Name Q: #N/A
Name S: #N/A
Name T: #N/A
Name U: #N/A
Name V: #N/A
Name W: #N/A
Name X: #N/A
Name Y: #N/A
Name Z: #N/A

Sheet 01-07
A1: Coparticipación a Municipios
A2: 46204
A5: Municipios / Comunas | B5: Copar. Federal Impuestos LEY N°177 | C5: Consenso Fiscal | D5: Consenso Fiscal | E5: Regalias Hidroeléctricas | F5: Regalías Petroleras | G5: Regalías Gasíferas | H5: IIBB | I5: Bono Compensación Inc. A | J5: Bono Compensación Inc. B | K5: Total
C6: Punto I c) | D6: Punto II a) | E6: Bruto | F6: Bruto | G6: Bruto | K6: Bruto
A7: COMISION DE FOMENTO DE 28 DE JULIO | B7: 34019709 | C7: 3669961.7 | D7: 460181.37 | K7: 38149852
A8: COMISION DE FOMENTO DE PTO. PIRAMIDES | B8: 32155037 | C8: 3468805.6 | D8: 434958.13 | K8: 36058801
A9: COMUNA RURAL ALDEA APELEG
A10: COMUNA RURAL ALDEA BELEIRO
A11: COMUNA RURAL ALDEA EPULEF
A12: COMUNA RURAL BUEN PASTO
A13: COMUNA RURAL CARRENLEUFU
A14: COMUNA RURAL CERRO CENTINELA
A15: COMUNA RURAL COLAN CONHUE
A16: COMUNA RURAL CUSHAMEN
A17: COMUNA RURAL DIQUE F. AMEGHINO
A18: COMUNA RURAL DR. ATILIO O. VIGLIONE
A19: COMUNA RURAL FACUNDO
A20: COMUNA RURAL GAN GAN
... A28: COMUNA RURAL TELSEN
A29: MUNICIPALIDAD DE CAMARONES | B29: 37306087 | C29: 4024488 | D29: 504635.89 | K29: 41835211
A30: MUNICIPALIDAD DE CHOLILA | B30: 47241158 | C30: 5096258.9 | D30: 639026.65 | K30: 52976443
A31: MUNICIPALIDAD DE COMODORO RIVADAVIA | B31: 1.2839867e+09 | C31: 1.3851329e+08 | D31: 17368366 | K31: 1.4398683e+09
A32: MUNICIPALIDAD DE CORCOVADO | B32: 40166375 | C32: 4333048.8 | D32: 543326.73 | K32: 45042750
A33: MUNICIPALIDAD DE DOLAVON | B33: 64364917 | C33: 6943527.6 | D33: 870658.12 | K33: 72179103
A34: MUNICIPALIDAD DE EL HOYO | B34: 46996472 | C34: 5069862.8 | D34: 635716.82 | K34: 52702052
A35: MUNICIPALIDAD DE EL MAITEN | B35: 66647242 | C35: 7189739 | D35: 901530.91 | K35: 74738512
A36: MUNICIPALIDAD DE EPUYEN | B36: 39533568 | C36: 4264783.2 | D36: 534766.81 | K36: 44333118
A37: MUNICIPALIDAD DE ESQUEL | B37: 2.533633e+08 | C37: 27332204 | D37: 3427221.3 | K37: 2.8412272e+08
A38: MUNICIPALIDAD DE GAIMAN | B38: 82766947 | C38: 8928692.9 | D38: 1119580.6 | K38: 92815221
A39: MUNICIPALIDAD DE GOBERNADOR COSTA | B39: 50991595 | C39: 5500846.7 | D39: 689758.45 | K39: 57182200
A40: MUNICIPALIDAD DE GUALJAINA | B40: 36002504 | C40: 3883860.8 | D40: 487002.45 | K40: 40373367
... A53: MUNICIPALIDAD DE TREVELIN | B53: 77902770 | C53: 8403957.5 | D53: 1053783.4 | K53: 87360511
A54: TOTALES | B54: 4.2187139e+09 | C54: 4.5510438e+08 | D54: 57066142 | E54: 0 | F54: 0 | G54: 0 | H54: 0 | I54: 0 | J54: 0 | K54: 4.7308844e+09

Sheet 08-07
A1: Coparticipación a Municipios
A2: 46211
A5: Municipios / Comunas | B5: Copar. Federal Impuestos LEY N°177 | C5: Consenso Fiscal | D5: Consenso Fiscal | E5: Regalias Hidroeléctricas | F5: Regalías Petroleras | G5: Regalías Gasíferas | H5: IIBB | I5: Bono Compensación Inc. A | J5: Bono Compensación Inc. B | K5: Total
C6: Punto I c) | D6: Punto II a) | E6: Bruto | F6: Bruto | G6: Bruto | K6: Bruto
A7: COMISION DE FOMENTO DE 28 DE JULIO | B7: 2650382.5 | C7: 359467.42 | D7: 414043.79 | F7: 16611055 | G7: 133850.25 | J7: 43717.08 | K7: 20212517
A8: COMISION DE FOMENTO DE PTO. PIRAMIDES | B8: 2505111.1 | C8: 339764.47 | D8: 391349.43 | F8: 14939588 | G8: 120381.73 | J8: 39318.1 | K8: 18335513
A9: COMUNA RURAL ALDEA APELEG | F9: 5805144 | G9: 46777.28 | I9: 24802.55 | J9: 15278.01 | K9: 5892001.8
A10: COMUNA RURAL ALDEA BELEIRO | F10: 6143254.7 | G10: 49501.74 | I10: 36822.6 | J10: 16167.86 | K10: 6245746.9
A11: COMUNA RURAL ALDEA EPULEF | F11: 5952385.8 | G11: 47963.74 | J11: 15665.53 | K11: 6016015
A12: COMUNA RURAL BUEN PASTO | F12: 5567921.1 | G12: 44865.76 | I12: 16280.88 | J12: 14653.69 | K12: 5643721.4
A13: COMUNA RURAL CARRENLEUFU | F13: 6726768.5 | G13: 54203.64 | J13: 17703.55 | K13: 6798675.7
A14: COMUNA RURAL CERRO CENTINELA | F14: 5475213.3 | G14: 44118.73 | J14: 14409.7 | K14: 5533741.7
A15: COMUNA RURAL COLAN CONHUE | F15: 6383204.3 | G15: 51435.23 | J15: 16799.36 | K15: 6451438.9
A16: COMUNA RURAL CUSHAMEN | F16: 10086063 | G16: 81272.5 | J16: 26544.56 | K16: 10193880
A17: COMUNA RURAL DIQUE F. AMEGHINO | F17: 6012373.2 | G17: 48447.11 | J17: 15823.4 | K17: 6076643.7
A18: COMUNA RURAL DR. ATILIO O. VIGLIONE | F18: 5946932.3 | G18: 47919.8 | I18: 29781 | J18: 15651.17 | K18: 6040284.3
A19: COMUNA RURAL FACUNDO | F19: 6432284.9 | G19: 51830.72 | I19: 47183.16 | J19: 16928.53 | K19: 6548227.3
A20: COMUNA RURAL GAN GAN | F20: 9025376.5 | G20: 72725.59 | J20: 23753.04 | K20: 9121855.1
A21: COMUNA RURAL GASTRE | F21: 8234633.5 | G21: 66353.87 | J21: 21671.96 | K21: 8322659.3
A22: COMUNA RURAL LAGO BLANCO | F22: 6287769.8 | G22: 50666.23 | I22: 42025.3 | J22: 16548.19 | K22: 6397009.5
A23: COMUNA RURAL LAGUNITA SALADA | F23: 5867858.1 | G23: 47282.62 | J23: 15443.07 | K23: 5930583.8
A24: COMUNA RURAL LAS PLUMAS | F24: 8125565.5 | G24: 65475.01 | J24: 21384.91 | K24: 8212425.4
A25: COMUNA RURAL LOS ALTARES | F25: 6156888.2 | G25: 49611.6 | J25: 16203.74 | K25: 6222703.6
A26: COMUNA RURAL PASO DEL SAPO | F26: 7700200.3 | G26: 62047.46 | J26: 20265.43 | K26: 7782513.2
A27: COMUNA RURAL RICARDO ROJAS | F27: 6323216.9 | G27: 50951.86 | I27: 43281.13 | J27: 16641.48 | K27: 6434091.4
A28: COMUNA RURAL TELSEN | F28: 8081938.3 | G28: 65123.46 | J28: 21270.1 | K28: 8168331.9
A29: MUNICIPALIDAD DE CAMARONES | B29: 2906415.3 | C29: 394192.76 | D29: 454041.33 | F29: 16998247 | G29: 136970.2 | I29: 302384.83 | J29: 44736.09 | K29: 21236987
A30: MUNICIPALIDAD DE CHOLILA | B30: 3680429.5 | C30: 499171.16 | D30: 574958.14 | F30: 25377395 | G30: 204488.55 | J30: 66788.39 | K30: 30403231
A31: MUNICIPALIDAD DE COMODORO RIVADAVIA | B31: 1.0003189e+08 | C31: 13567176 | D31: 15627021 | F31: 1.0906799e+09 | G31: 8788591.5 | I31: 37236750 | J31: 2870458.2 | K31: 1.2688018e+09
A32: MUNICIPALIDAD DE CORCOVADO | B32: 3129252.5 | C32: 424415.84 | D32: 488853.05 | F32: 16821011 | G32: 135542.05 | J32: 44269.64 | K32: 21043344
A33: MUNICIPALIDAD DE DOLAVON | B33: 5014494.9 | C33: 680108.44 | D33: 783366.34 | F33: 33442974 | G33: 269480.19 | J33: 88015.42 | K33: 40278439
A34: MUNICIPALIDAD DE EL HOYO | B34: 3661366.8 | C34: 496585.7 | D34: 571980.14 | F34: 35351663 | G34: 284860.22 | J34: 93038.73 | K34: 40459495
A35: MUNICIPALIDAD DE EL MAITEN | B35: 5192304.5 | C35: 704224.5 | D35: 811143.83 | F35: 39463527 | G35: 317993.21 | J35: 103860.35 | K35: 46593053
A36: MUNICIPALIDAD DE EPUYEN | B36: 3079952.2 | C36: 417729.32 | D36: 481151.34 | F36: 22487094 | G36: 181198.78 | J36: 59181.67 | K36: 26706307
A37: MUNICIPALIDAD DE ESQUEL | B37: 19738842 | C37: 2677149.7 | D37: 3083609.6 | F37: 1.1738988e+08 | G37: 945916.1 | J37: 308947.41 | K37: 1.4414435e+08
A38: MUNICIPALIDAD DE GAIMAN | B38: 6448146.7 | C38: 874552.51 | D38: 1007332 | F38: 44799678 | G38: 360991.4 | J38: 117904.07 | K38: 53608605
A39: MUNICIPALIDAD DE GOBERNADOR COSTA | B39: 3972615.8 | C39: 538799.95 | D39: 620603.59 | F39: 24499398 | G39: 197413.74 | I39: 498876.66 | J39: 64477.67 | K39: 30392185
A40: MUNICIPALIDAD DE GUALJAINA | B40: 2804856.7 | C40: 380418.53 | D40: 438175.81 | F40: 27962307 | G40: 225317.51 | J40: 73591.37 | K40: 31884667
A41: MUNICIPALIDAD DE JOSE DE SAN MARTIN | B41: 3623241.2 | C41: 491414.79 | D41: 566024.16 | F41: 16602875 | G41: 133784.33 | I41: 292024.27 | J41: 43695.55 | K41: 21753060
A42: MUNICIPALIDAD DE LAGO PUELO | B42: 5161738.3 | C42: 700078.86 | D42: 806368.77 | F42: 76554825 | G42: 616871.24 | J42: 201477.46 | K42: 84041359
A43: MUNICIPALIDAD DE PASO DE INDIOS | B43: 2894254.6 | C43: 392543.42 | D43: 452141.57 | F43: 35921544 | G43: 289452.26 | J43: 94538.54 | K43: 40044474
A44: MUNICIPALIDAD DE PUERTO MADRYN | B44: 42030124 | C44: 5700482.9 | D44: 6565962.4 | F44: 2.7893049e+08 | G44: 2247594.4 | J44: 734090.98 | K44: 3.3620874e+08
A45: MUNICIPALIDAD DE RADA TILLY | B45: 6647977.2 | C45: 901655.21 | D45: 1038549.6 | F45: 59038505 | G45: 475726.46 | I45: 2497388.3 | J45: 155377.9 | K45: 70755180
A46: MUNICIPALIDAD DE RAWSON | B46: 17659686 | C46: 2395156.8 | D46: 2758803 | F46: 1.2014112e+08 | G46: 968085.32 | J46: 316188.15 | K46: 1.4423904e+08
A47: MUNICIPALIDAD DE RIO MAYO | B47: 4062999.6 | C47: 551058.57 | D47: 634723.39 | F47: 27804158 | G47: 224043.17 | I47: 585483.77 | J47: 73175.16 | K47: 33935642
A48: MUNICIPALIDAD DE RIO PICO | B48: 3165406 | C48: 429319.29 | D48: 494500.97 | F48: 14658738 | G48: 118118.67 | I48: 241118.49 | J48: 38578.96 | K48: 19145781
A49: MUNICIPALIDAD DE RIO SENGUER | B49: 3692261.6 | C49: 500775.92 | D49: 576806.55 | F49: 17385438 | G49: 140090.15 | I49: 312565.99 | J49: 45755.1 | K49: 22653694
A50: MUNICIPALIDAD DE SARMIENTO | B50: 9282255 | C50: 1258938.4 | D50: 1450077.5 | F50: 61007182 | G50: 491589.86 | I50: 2644140.5 | J50: 160559.08 | K50: 76294742
A51: MUNICIPALIDAD DE TECKA | B51: 3267621.9 | C51: 443182.68 | D51: 510469.17 | F51: 14290634 | G51: 115152.52 | J51: 37610.18 | K51: 18664670
A52: MUNICIPALIDAD DE TRELEW | B52: 56295650 | C52: 7635294.9 | D52: 8794528.4 | F52: 2.8903018e+08 | G52: 2328976.7 | J52: 760671.42 | K52: 3.6484531e+08
A53: MUNICIPALIDAD DE TREVELIN | B53: 6069192 | C53: 823155.44 | D53: 948131.54 | F53: 52175401 | G53: 420424.24 | J53: 137315.54 | K53: 60573620
A54: TOTALES | B54: 3.2866847e+08 | C54: 44576814 | D54: 51344717 | E54: 0 | F54: 2.7266998e+09 | G54: 21971479 | H54: 0 | I54: 44850909 | J54: 7176145.5 | K54: 3.2252884e+09

Sheet 15-07
A1: Coparticipación a Municipios
A2: 46218
A5: Municipios / Comunas | B5: Copar. Federal Impuestos LEY N°177 | C5: Consenso Fiscal | D5: Consenso Fiscal | E5: Regalias Hidroeléctricas | F5: Regalías Petroleras | G5: Regalías Gasíferas | H5: IIBB | I5: Bono Compensación Inc. A | J5: Bono Compensación Inc. B | K5: Total
C6: Punto I c) | D6: Punto II a) | E6: Bruto | F6: Bruto | G6: Bruto | K6: Bruto
A7: COMISION DE FOMENTO DE 28 DE JULIO | B7: 1809938.3 | C7: 424136.81 | D7: 253010.18 | E7: 388633.99 | H7: 4291384 | K7: 7167103.3
A8: COMISION DE FOMENTO DE PTO. PIRAMIDES | B8: 1710732.8 | C8: 400889.23 | D8: 239142.31 | E8: 366123.32 | H8: 4189781.4 | K8: 6906669.1
A9: COMUNA RURAL ALDEA APELEG
A10: COMUNA RURAL ALDEA BELEIRO
A11: COMUNA RURAL ALDEA EPULEF
A12: COMUNA RURAL BUEN PASTO
A13: COMUNA RURAL CARRENLEUFU
A14: COMUNA RURAL CERRO CENTINELA
A15: COMUNA RURAL COLAN CONHUE
A16: COMUNA RURAL CUSHAMEN
A17: COMUNA RURAL DIQUE F. AMEGHINO
A18: COMUNA RURAL DR. ATILIO O. VIGLIONE
A19: COMUNA RURAL FACUNDO
A20: COMUNA RURAL GAN GAN
... A28: COMUNA RURAL TELSEN
A29: MUNICIPALIDAD DE CAMARONES | B29: 1984782.3 | C29: 465109.35 | D29: 277451.51 | E29: 426334.22 | H29: 4689298.2 | K29: 7842975.6
A30: MUNICIPALIDAD DE CHOLILA | B30: 2513354.3 | C30: 588973.71 | D30: 351340.27 | E30: 516924.25 | H30: 6576558.4 | K30: 10547151
A31: MUNICIPALIDAD DE COMODORO RIVADAVIA | B31: 68311478 | C31: 16007956 | D31: 9549220.2 | E31: 13970981 | H31: 78426973 | K31: 1.8626661e+08
A32: MUNICIPALIDAD DE CORCOVADO | B32: 2136957.1 | C32: 500769.66 | D32: 298723.94 | E32: 463966.03 | H32: 5978271.1 | K32: 9378687.9
A33: MUNICIPALIDAD DE DOLAVON | B33: 3424383.5 | C33: 802462.22 | D33: 478692.49 | E33: 670462.05 | H33: 6155987.2 | K33: 11531987
A34: MUNICIPALIDAD DE EL HOYO | B34: 2500336.4 | C34: 585923.12 | D34: 349520.51 | E34: 535124.37 | H34: 6058278.8 | K34: 10029183
A35: MUNICIPALIDAD DE EL MAITEN | B35: 3545809.1 | C35: 830916.83 | D35: 495666.51 | E35: 707888.6 | H35: 8228397.9 | K35: 13808679
A36: MUNICIPALIDAD DE EPUYEN | B36: 2103290.1 | C36: 492880.21 | D36: 294017.65 | E36: 450144.89 | H36: 5452203.1 | K36: 8792535.9
A37: MUNICIPALIDAD DE ESQUEL | B37: 13479596 | C37: 3158777.8 | D37: 1884304.6 | E37: 2820470.1 | H37: 25215510 | K37: 46558658
A38: MUNICIPALIDAD DE GAIMAN | B38: 4403420 | C38: 1031887.4 | D38: 615551.42 | E38: 879968.61 | H38: 8293890.9 | K38: 15224718
A39: MUNICIPALIDAD DE GOBERNADOR COSTA | B39: 2712887.4 | C39: 635731.85 | D39: 379232.89 | E39: 558182.4 | H39: 5918088.3 | K39: 10204123
A40: MUNICIPALIDAD DE GUALJAINA | B40: 1915428.2 | C40: 448857.09 | D40: 267756.55 | E40: 409981.49 | H40: 5146333.1 | K40: 8188356.4
... A53: MUNICIPALIDAD DE TREVELIN | B53: 4144633 | C53: 971243.84 | D53: 579375.73 | E53: 22218848 | H53: 10437813 | K53: 38351913
A54: TOTALES | B54: 2.2444671e+08 | C54: 52596331 | D54: 31375270 | E54: 68421476 | F54: 0 | G54: 0 | H54: 3.5401617e+08 | I54: 0 | J54: 0 | K54: 7.3085596e+08

Sheet 23-07
A1: Coparticipación a Municipios
A2: 46226
A5: Municipios / Comunas | B5: Copar. Federal Impuestos LEY N°177 | C5: Consenso Fiscal | D5: Consenso Fiscal | E5: Regalias Hidroeléctricas | F5: Regalías Petroleras | G5: Regalías Gasíferas | H5: IIBB | I5: Bono Compensación Inc. A | J5: Bono Compensación Inc. B | K5: Total
C6: Punto I c) | D6: Punto II a) | E6: Bruto | F6: Bruto | G6: Bruto | K6: Bruto
A7: COMISION DE FOMENTO DE 28 DE JULIO | B7: 24112581 | C7: 6254387.9 | D7: 506020.35 | E7: 12.41 | F7: 26237594 | G7: 1114222.5 | J7: 3075871.3 | K7: 61300689
A8: COMISION DE FOMENTO DE PTO. PIRAMIDES | B8: 22790934 | C8: 5911575.4 | D8: 478284.61 | E8: 11.69 | F8: 23597468 | G8: 1002105.3 | J8: 2766365.5 | K8: 56546745
A9: COMUNA RURAL ALDEA APELEG | F9: 9169375.8 | G9: 389392.61 | I9: 1745072.2 | J9: 1074939.2 | K9: 12378780
A10: COMUNA RURAL ALDEA BELEIRO | F10: 9703430.6 | G10: 412072.12 | I10: 2590785.4 | J10: 1137547.3 | K10: 13843835
A11: COMUNA RURAL ALDEA EPULEF | F11: 9401948.1 | G11: 399269.17 | J11: 1102204 | K11: 10903421
A12: COMUNA RURAL BUEN PASTO | F12: 8794676.1 | G12: 373480.37 | I12: 1145499.5 | J12: 1031012.7 | K12: 11344669
A13: COMUNA RURAL CARRENLEUFU | F13: 10625106 | G13: 451212.58 | J13: 1245596.6 | K13: 12321915
A14: COMUNA RURAL CERRO CENTINELA | F14: 8648241.8 | G14: 367261.8 | J14: 1013845.9 | K14: 10029350
A15: COMUNA RURAL COLAN CONHUE | F15: 10082437 | G15: 428167.26 | J15: 1181978.8 | K15: 11692583
A16: COMUNA RURAL CUSHAMEN | F16: 15931198 | G16: 676544.51 | J16: 1867637.5 | K16: 18475380
A17: COMUNA RURAL DIQUE F. AMEGHINO | F17: 9496699.7 | G17: 403292.96 | J17: 1113311.9 | K17: 11013305
A18: COMUNA RURAL DR. ATILIO O. VIGLIONE | F18: 9393334.3 | G18: 398903.38 | I18: 2095348.9 | J18: 1101194.2 | K18: 12988781
A19: COMUNA RURAL FACUNDO | F19: 10159961 | G19: 431459.45 | I19: 3319739.6 | J19: 1191067 | K19: 15102227
A20: COMUNA RURAL GAN GAN | F20: 14255817 | G20: 605396.69 | J20: 1671230.1 | K20: 16532444
A21: COMUNA RURAL GASTRE | F21: 13006818 | G21: 552355.89 | J21: 1524808.1 | K21: 15083982
A22: COMUNA RURAL LAGO BLANCO | F22: 9931696 | G22: 421765.79 | I22: 2956840.3 | J22: 1164307.1 | K22: 14474609
A23: COMUNA RURAL LAGUNITA SALADA | F23: 9268434.4 | G23: 393599.3 | J23: 1086552 | K23: 10748586
A24: COMUNA RURAL LAS PLUMAS | F24: 12834542 | G24: 545039.92 | J24: 1504612 | K24: 14884194
A25: COMUNA RURAL LOS ALTARES | F25: 9724965.1 | G25: 412986.62 | J25: 1140071.8 | K25: 11278024
A26: COMUNA RURAL PASO DEL SAPO | F26: 12162667 | G26: 516507.63 | J26: 1425847.1 | K26: 14105021
A27: COMUNA RURAL RICARDO ROJAS | F27: 9987685.6 | G27: 424143.48 | I27: 3045198.4 | J27: 1170870.9 | K27: 14627898
A28: COMUNA RURAL TELSEN | F28: 12765632 | G28: 542113.53 | J28: 1496533.6 | K28: 14804279
A29: MUNICIPALIDAD DE CAMARONES | B29: 26441909 | C29: 6858575.4 | D29: 554903.02 | E29: 13.61 | F29: 26849173 | G29: 1140194.2 | I29: 21275365 | J29: 3147567.5 | K29: 86267701
A30: MUNICIPALIDAD DE CHOLILA | B30: 33483715 | C30: 8685098.6 | D30: 702680.54 | E30: 16.5 | F30: 40084256 | G30: 1702243.8 | J30: 4699135.6 | K30: 89357146
A31: MUNICIPALIDAD DE COMODORO RIVADAVIA | B31: 9.1006753e+08 | C31: 2.3605583e+08 | D31: 19098440 | E31: 446.01 | F31: 1.7227573e+09 | G31: 73159720 | I31: 2.6199246e+09 | J31: 2.0196134e+08 | K31: 5.7830252e+09
A32: MUNICIPALIDAD DE CORCOVADO | B32: 28469231 | C32: 7384427.9 | D32: 597447.89 | E32: 14.81 | F32: 26569225 | G32: 1128305.8 | J32: 3114748.8 | K32: 67263402
A33: MUNICIPALIDAD DE DOLAVON | B33: 45620740 | C33: 11833234 | D33: 957384.98 | E33: 21.4 | F33: 52824046 | G33: 2243259.9 | J33: 6192639.7 | K33: 1.1967133e+08
A34: MUNICIPALIDAD DE EL HOYO | B34: 33310287 | C34: 8640114.2 | D34: 699041.01 | E34: 17.08 | F34: 55838872 | G34: 2371289.4 | J34: 6546072.1 | K34: 1.0740569e+08
A35: MUNICIPALIDAD DE EL MAITEN | B35: 47238412 | C35: 12252830 | D35: 991333.02 | E35: 22.6 | F35: 62333667 | G35: 2647101.6 | J35: 7307466.3 | K35: 1.3277083e+08
A36: MUNICIPALIDAD DE EPUYEN | B36: 28020709 | C36: 7268088.9 | D36: 588035.31 | E36: 14.37 | F36: 35518949 | G36: 1508370.5 | J36: 4163938 | K36: 77068105
A37: MUNICIPALIDAD DE ESQUEL | B37: 1.7957952e+08 | C37: 46579833 | D37: 3768609.1 | E37: 90.04 | F37: 1.8542037e+08 | G37: 7874180.7 | J37: 21737099 | K37: 4.4495971e+08
A38: MUNICIPALIDAD DE GAIMAN | B38: 58663780 | C38: 15216373 | D38: 1231102.8 | E38: 28.09 | F38: 70762257 | G38: 3005035.5 | J38: 8295562.2 | K38: 1.5717414e+08
A39: MUNICIPALIDAD DE GOBERNADOR COSTA | B39: 36141960 | C39: 9374601.5 | D39: 758465.77 | E39: 17.82 | F39: 38697436 | G39: 1643350.2 | I39: 35100250 | J39: 4536556.7 | K39: 1.2625264e+08
A40: MUNICIPALIDAD DE GUALJAINA | B40: 25517952 | C40: 6618916.9 | D40: 535513.1 | E40: 13.09 | F40: 44167191 | G40: 1875632.3 | J40: 5177784 | K40: 83893002
A41: MUNICIPALIDAD DE JOSE DE SAN MARTIN | B41: 32963429 | C41: 8550145.3 | D41: 691761.95 | E41: 16.16 | F41: 26224673 | G41: 1113673.8 | I41: 20546411 | J41: 3074356.6 | K41: 93164467
A42: MUNICIPALIDAD DE LAGO PUELO | B42: 46960328 | C42: 12180700 | D42: 985497.22 | E42: 24.08 | F42: 1.2092034e+08 | G42: 5135080.8 | J42: 14175667 | K42: 2.0035763e+08
A43: MUNICIPALIDAD DE PASO DE INDIOS | B43: 26331273 | C43: 6829878.4 | D43: 552581.25 | E43: 13.58 | F43: 56739012 | G43: 2409515.4 | J43: 6651596.9 | K43: 99513871
A44: MUNICIPALIDAD DE PUERTO MADRYN | B44: 3.8238056e+08 | C44: 99182927 | D44: 8024539 | E44: 196.11 | F44: 4.4057796e+08 | G44: 18709867 | J44: 51649594 | K44: 1.0005256e+09
A45: MUNICIPALIDAD DE RADA TILLY | B45: 60481792 | C45: 15687934 | D45: 1269255.2 | E45: 31.02 | F45: 93252854 | G45: 3960135.7 | I45: 1.7571268e+08 | J45: 10932168 | K45: 3.6129685e+08
A46: MUNICIPALIDAD DE RAWSON | B46: 1.6066382e+08 | C46: 41673427 | D46: 3371649.2 | E46: 82.4 | F46: 1.8976603e+08 | G46: 8058726.1 | J46: 22246547 | K46: 4.2578028e+08
A47: MUNICIPALIDAD DE RIO MAYO | B47: 36964252 | C47: 9587889.7 | D47: 775722.17 | E47: 19.25 | F47: 43917391 | G47: 1865024.2 | I47: 41193803 | J47: 5148499.6 | K47: 1.394526e+08
A48: MUNICIPALIDAD DE RIO PICO | B48: 28798148 | C48: 7469743.2 | D48: 604350.45 | E48: 14.81 | F48: 23153858 | G48: 983266.64 | I48: 16964753 | J48: 2714360.5 | K48: 80688495
A49: MUNICIPALIDAD DE RIO SENGUER | B49: 33591361 | C49: 8713020 | D49: 704939.56 | E49: 16.88 | F49: 27460752 | G49: 1166165.9 | I49: 21991697 | J49: 3219263.8 | K49: 96847216
A50: MUNICIPALIDAD DE SARMIENTO | B50: 84447856 | C50: 21904318 | D50: 1772200.7 | E50: 38.93 | F50: 96362431 | G50: 4092189 | I50: 1.8603795e+08 | J50: 11296708 | K50: 4.059137e+08
A51: MUNICIPALIDAD DE TECKA | B51: 29728085 | C51: 7710952.9 | D51: 623865.86 | E51: 14.7 | F51: 22572428 | G51: 958575.24 | J51: 2646198.5 | K51: 64240120
A52: MUNICIPALIDAD DE TRELEW | B52: 5.1216509e+08 | C52: 1.328468e+08 | D52: 10748163 | E52: 267.52 | F52: 4.5653069e+08 | G52: 19387326 | J52: 53519756 | K52: 1.1851981e+09
A53: MUNICIPALIDAD DE TREVELIN | B53: 55216136 | C53: 14322114 | D53: 1158751.5 | E53: 709.33 | F53: 82412403 | G53: 3499778.1 | J53: 9661325.8 | K53: 1.6627122e+08
A54: TOTALES | B54: 2.9901514e+09 | C54: 7.7559373e+08 | D54: 62750540 | E54: 2184.29 | F54: 4.3068933e+09 | G54: 1.828993e+08 | H54: 0 | I54: 3.155646e+09 | J54: 5.0490336e+08 | K54: 1.197884e+10

Sheet 03-08
A1: Coparticipación a Municipios
A2: 46237
A5: Municipios / Comunas | B5: Copar. Federal Impuestos LEY N°177 | C5: Consenso Fiscal | D5: Consenso Fiscal | E5: Regalias Hidroeléctricas | F5: Regalías Petroleras | G5: Regalías Gasíferas | H5: IIBB | I5: Bono Compensación Inc. A | J5: Bono Compensación Inc. B | K5: Total
C6: Punto I c) | D6: Punto II a) | E6: Bruto | F6: Bruto | G6: Bruto | K6: Bruto
A7: COMISION DE FOMENTO DE 28 DE JULIO | B7: 37521314 | C7: 4954303.2 | D7: 590357.08 | K7: 43065974
A8: COMISION DE FOMENTO DE PTO. PIRAMIDES | B8: 35464714 | C8: 4682750.4 | D8: 557998.71 | K8: 40705463
A9: COMUNA RURAL ALDEA APELEG
A10: COMUNA RURAL ALDEA BELEIRO
A11: COMUNA RURAL ALDEA EPULEF
A12: COMUNA RURAL BUEN PASTO
A13: COMUNA RURAL CARRENLEUFU
A14: COMUNA RURAL CERRO CENTINELA
A15: COMUNA RURAL COLAN CONHUE
A16: COMUNA RURAL CUSHAMEN
A17: COMUNA RURAL DIQUE F. AMEGHINO
A18: COMUNA RURAL DR. ATILIO O. VIGLIONE
A19: COMUNA RURAL FACUNDO
A20: COMUNA RURAL GAN GAN
... A28: COMUNA RURAL TELSEN
A29: MUNICIPALIDAD DE CAMARONES | B29: 41145955 | C29: 5432899.7 | D29: 647386.86 | K29: 47226241
A30: MUNICIPALIDAD DE CHOLILA | B30: 52103630 | C30: 6879747.9 | D30: 819793.96 | K30: 59803172
A31: MUNICIPALIDAD DE COMODORO RIVADAVIA | B31: 1.4161458e+09 | C31: 1.8698747e+08 | D31: 22281514 | K31: 1.6254147e+09
A32: MUNICIPALIDAD DE CORCOVADO | B32: 44300648 | C32: 5849444.5 | D32: 697022.53 | K32: 50847115
A33: MUNICIPALIDAD DE DOLAVON | B33: 70989916 | C33: 9373487.6 | D33: 1116949.1 | K33: 81480353
A34: MUNICIPALIDAD DE EL HOYO | B34: 51833759 | C34: 6844114.3 | D34: 815547.85 | K34: 59493421
A35: MUNICIPALIDAD DE EL MAITEN | B35: 73507157 | C35: 9705863.3 | D35: 1156555.2 | K35: 84369576
A36: MUNICIPALIDAD DE EPUYEN | B36: 43602707 | C36: 5757288.6 | D36: 686041.19 | K36: 50046037
A37: MUNICIPALIDAD DE ESQUEL | B37: 2.7944166e+08 | C37: 36897394 | D37: 4396710.7 | K37: 3.2073576e+08
A38: MUNICIPALIDAD DE GAIMAN | B38: 91286043 | C38: 12053382 | D38: 1436286.6 | K38: 1.0477571e+08
A39: MUNICIPALIDAD DE GOBERNADOR COSTA | B39: 56240094 | C39: 7425925.4 | D39: 884876.73 | K39: 64550896
A40: MUNICIPALIDAD DE GUALJAINA | B40: 39708196 | C40: 5243058.5 | D40: 624765.29 | K40: 45576020
... A53: MUNICIPALIDAD DE TREVELIN | B53: 85921203 | C53: 11345010 | D53: 1351876.7 | K53: 98618090
A54: TOTALES | B54: 4.6529407e+09 | C54: 6.1437292e+08 | D54: 73208963 | E54: 0 | F54: 0 | G54: 0 | H54: 0 | I54: 0 | J54: 0 | K54: 5.3405226e+09

Sheet 10-08
A1: Coparticipación a Municipios
A2: 46244
A5: Municipios / Comunas | B5: Copar. Federal Impuestos LEY N°177 | C5: Consenso Fiscal | D5: Consenso Fiscal | E5: Regalias Hidroeléctricas | F5: Regalías Petroleras | G5: Regalías Gasíferas | H5: IIBB | I5: Bono Compensación Inc. A | J5: Bono Compensación Inc. B | K5: Total
C6: Punto I c) | D6: Punto II a) | E6: Bruto | F6: Bruto | G6: Bruto | K6: Bruto
A7: COMISION DE FOMENTO DE 28 DE JULIO | B7: 2410554.3 | C7: 447638.32 | D7: 421683.63 | F7: 21969645 | G7: 603035.18 | J7: 52805.94 | K7: 25905363
A8: COMISION DE FOMENTO DE PTO. PIRAMIDES | B8: 2278428.2 | C8: 423102.59 | D8: 398570.51 | F8: 19758977 | G8: 542355.5 | J8: 47492.4 | K8: 23448926
A9: COMUNA RURAL ALDEA APELEG | F9: 7677835.7 | G9: 210745.55 | I9: 29959.05 | J9: 18454.34 | K9: 7936994.7
A10: COMUNA RURAL ALDEA BELEIRO | F10: 8125018.2 | G10: 223020.07 | I10: 44478.08 | J10: 19529.18 | K10: 8412045.6
A11: COMUNA RURAL ALDEA EPULEF | F11: 7872576.5 | G11: 216090.9 | J11: 18922.42 | K11: 8107589.8
A12: COMUNA RURAL BUEN PASTO | F12: 7364086.7 | G12: 202133.59 | I12: 19665.7 | J12: 17700.22 | K12: 7603586.2
A13: COMUNA RURAL CARRENLEUFU | F13: 8896768.8 | G13: 244203.51 | J13: 21384.15 | K13: 9162356.4
A14: COMUNA RURAL CERRO CENTINELA | F14: 7241472.1 | G14: 198768 | J14: 17405.5 | K14: 7457645.6
A15: COMUNA RURAL COLAN CONHUE | F15: 8442373.6 | G15: 231731.02 | J15: 20291.97 | K15: 8694396.6
A16: COMUNA RURAL CUSHAMEN | F16: 13339744 | G16: 366156.78 | J16: 32063.22 | K16: 13737964
A17: COMUNA RURAL DIQUE F. AMEGHINO | F17: 7951915.3 | G17: 218268.64 | J17: 19113.11 | K17: 8189297.1
A18: COMUNA RURAL DR. ATILIO O. VIGLIONE | F18: 7865363.9 | G18: 215892.93 | I18: 35972.53 | J18: 18905.08 | K18: 8136134.4
A19: COMUNA RURAL FACUNDO | F19: 8507287.2 | G19: 233512.8 | I19: 56992.62 | J19: 20448 | K19: 8818240.6
A20: COMUNA RURAL GAN GAN | F20: 11936889 | G20: 327650.43 | J20: 28691.34 | K20: 12293231
A21: COMUNA RURAL GASTRE | F21: 10891059 | G21: 298943.9 | J21: 26177.6 | K21: 11216180
A22: COMUNA RURAL LAGO BLANCO | F22: 8316152.7 | G22: 228266.43 | I22: 50762.44 | J22: 19988.59 | K22: 8615170.2
A23: COMUNA RURAL LAGUNITA SALADA | F23: 7760780.9 | G23: 213022.28 | J23: 18653.71 | K23: 7992456.8
A24: COMUNA RURAL LAS PLUMAS | F24: 10746806 | G24: 294984.38 | J24: 25830.88 | K24: 11067621
A25: COMUNA RURAL LOS ALTARES | F25: 8143049.8 | G25: 223515.01 | J25: 19572.52 | K25: 8386137.3
A26: COMUNA RURAL PASO DEL SAPO | F26: 10184222 | G26: 279542.24 | J26: 24478.65 | K26: 10488243
A27: COMUNA RURAL RICARDO ROJAS | F27: 8363034.8 | G27: 229553.28 | I27: 52279.35 | J27: 20101.28 | K27: 8664968.7
A28: COMUNA RURAL TELSEN | F28: 10689105 | G28: 293400.57 | J28: 25692.19 | K28: 11008198
A29: MUNICIPALIDAD DE CAMARONES | B29: 2643419.1 | C29: 490881.16 | D29: 462419.18 | F29: 22481742 | G29: 617091.48 | I29: 365251.18 | J29: 54036.8 | K29: 27114841
A30: MUNICIPALIDAD DE CHOLILA | B30: 3347394.2 | C30: 621608.87 | D30: 585567.12 | F30: 33563935 | G30: 921281.74 | J30: 80673.81 | K30: 39120460
A31: MUNICIPALIDAD DE COMODORO RIVADAVIA | B31: 90980191 | C31: 16894961 | D31: 15915367 | F31: 1.4425243e+09 | G31: 39595218 | I31: 44978337 | J31: 3467231.6 | K31: 1.6543556e+09
A32: MUNICIPALIDAD DE CORCOVADO | B32: 2846092.2 | C32: 528517.42 | D32: 497873.24 | F32: 22247331 | G32: 610657.26 | J32: 53473.38 | K32: 26783945
A33: MUNICIPALIDAD DE DOLAVON | B33: 4560742.5 | C33: 846926.82 | D33: 797820.82 | F33: 44231402 | G33: 1214088.4 | J33: 106313.99 | K33: 51757295
A34: MUNICIPALIDAD DE EL HOYO | B34: 3330056.4 | C34: 618389.25 | D34: 582534.18 | F34: 46755820 | G34: 1283380 | J34: 112381.64 | K34: 52682561
A35: MUNICIPALIDAD DE EL MAITEN | B35: 4722462.4 | C35: 876958.11 | D35: 826110.85 | F35: 52194136 | G35: 1432654 | J35: 125453.11 | K35: 60177775
A36: MUNICIPALIDAD DE EPUYEN | B36: 2801253 | C36: 520190.81 | D36: 490029.42 | F36: 29741245 | G36: 816354.42 | J36: 71485.65 | K36: 34440559
A37: MUNICIPALIDAD DE ESQUEL | B37: 17952711 | C37: 3333806.4 | D37: 3140507.6 | F37: 1.5525889e+08 | G37: 4261633.4 | J37: 373178.13 | K37: 1.8432073e+08
A38: MUNICIPALIDAD DE GAIMAN | B38: 5864665.8 | C38: 1089064.5 | D38: 1025919 | F38: 59251687 | G38: 1626373.6 | J38: 142416.54 | K38: 69000126
A39: MUNICIPALIDAD DE GOBERNADOR COSTA | B39: 3613141.1 | C39: 670957.89 | D39: 632054.81 | F39: 32402703 | G39: 889407.59 | I39: 602594.01 | J39: 77882.69 | K39: 38888741
A40: MUNICIPALIDAD DE GUALJAINA | B40: 2551050.4 | C40: 473728.35 | D40: 446260.92 | F40: 36982717 | G40: 1015122.4 | J40: 88891.15 | K40: 41557771
A41: MUNICIPALIDAD DE JOSE DE SAN MARTIN | B41: 3295380.8 | C41: 611950.01 | D41: 576468.29 | F41: 21958827 | G41: 602738.21 | I41: 352736.64 | J41: 52779.93 | K41: 27450880
A42: MUNICIPALIDAD DE LAGO PUELO | B42: 4694662.2 | C42: 871795.62 | D42: 821247.69 | F42: 1.0125078e+08 | G42: 2779188.4 | J42: 243364.98 | K42: 1.1066104e+08
A43: MUNICIPALIDAD DE PASO DE INDIOS | B43: 2632358.8 | C43: 488827.27 | D43: 460484.38 | F43: 47509539 | G43: 1304068.5 | J43: 114193.27 | K43: 52509471
A44: MUNICIPALIDAD DE PUERTO MADRYN | B44: 38226896 | C44: 7098708.9 | D44: 6687115.8 | F44: 3.6891117e+08 | G44: 10126081 | J44: 886709.8 | K44: 4.3193668e+08
A45: MUNICIPALIDAD DE RADA TILLY | B45: 6046414 | C45: 1122815 | D45: 1057712.6 | F45: 78083842 | G45: 2143289.2 | I45: 3016599.8 | J45: 187681.25 | K45: 91658353
A46: MUNICIPALIDAD DE RAWSON | B46: 16061693 | C46: 2982645.7 | D46: 2809707.7 | F46: 1.5889766e+08 | G46: 4361512.3 | J46: 381924.23 | K46: 1.8549514e+08
A47: MUNICIPALIDAD DE RIO MAYO | B47: 3695346.3 | C47: 686223.33 | D47: 646435.14 | F47: 36773551 | G47: 1009381.1 | I47: 707206.89 | J47: 88388.4 | K47: 43606532
A48: MUNICIPALIDAD DE RIO PICO | B48: 2878974.3 | C48: 534623.6 | D48: 503625.37 | F48: 19387527 | G48: 532159.74 | I48: 291247.45 | J48: 46599.59 | K48: 24174757
A49: MUNICIPALIDAD DE RIO SENGUER | B49: 3358155.7 | C49: 623607.26 | D49: 587449.63 | F49: 22993838 | G49: 631147.78 | I49: 377549.01 | J49: 55267.67 | K49: 28627015
A50: MUNICIPALIDAD DE SARMIENTO | B50: 8442320.8 | C50: 1567733.3 | D50: 1476833.9 | F50: 80687598 | G50: 2214758.5 | I50: 3193862 | J50: 193939.6 | K50: 97777046
A51: MUNICIPALIDAD DE TECKA | B51: 2971940.9 | C51: 551887.43 | D51: 519888.22 | F51: 18900675 | G51: 518796.35 | J51: 45429.4 | K51: 23508617
A52: MUNICIPALIDAD DE TRELEW | B52: 51201561 | C52: 9508095.5 | D52: 8956802.8 | F52: 3.8226895e+08 | G52: 10492733 | J52: 918816.37 | K52: 4.6334695e+08
A53: MUNICIPALIDAD DE TREVELIN | B53: 5520002 | C53: 1025060.7 | D53: 965626.22 | F53: 69006757 | G53: 1894136.3 | J53: 165863.69 | K53: 78577446
A54: TOTALES | B54: 2.9892787e+08 | C54: 55510705 | D54: 52292116 | E54: 0 | F54: 3.6063108e+09 | G54: 98988046 | H54: 0 | I54: 54175493 | J54: 8668078.9 | K54: 4.1748731e+09

Sheet 18-08
A1: Coparticipación a Municipios
A2: 46252
A5: Municipios / Comunas | B5: Copar. Federal Impuestos LEY N°177 | C5: Consenso Fiscal | D5: Consenso Fiscal | E5: Regalias Hidroeléctricas | F5: Regalías Petroleras | G5: Regalías Gasíferas | H5: IIBB | I5: Bono Compensación Inc. A | J5: Bono Compensación Inc. B | K5: Total
C6: Punto I c) | D6: Punto II a) | E6: Bruto | F6: Bruto | G6: Bruto | K6: Bruto
A7: COMISION DE FOMENTO DE 28 DE JULIO | B7: 11892289 | C7: 2805256.8 | D7: 421683.63 | E7: 289972.13 | G7: 1959.74 | H7: 5924165.8 | K7: 21335327
A8: COMISION DE FOMENTO DE PTO. PIRAMIDES | B8: 11240455 | C8: 2651496.5 | D8: 398570.51 | E8: 273176.21 | G8: 1762.54 | H8: 5783905.5 | K8: 20349366
A9: COMUNA RURAL ALDEA APELEG | G9: 684.88 | K9: 684.88
A10: COMUNA RURAL ALDEA BELEIRO | G10: 724.77 | K10: 724.77
A11: COMUNA RURAL ALDEA EPULEF | G11: 702.25 | K11: 702.25
A12: COMUNA RURAL BUEN PASTO | G12: 656.89 | K12: 656.89
A13: COMUNA RURAL CARRENLEUFU | G13: 793.61 | K13: 793.61
A14: COMUNA RURAL CERRO CENTINELA | G14: 645.95 | K14: 645.95
A15: COMUNA RURAL COLAN CONHUE | G15: 753.08 | K15: 753.08
A16: COMUNA RURAL CUSHAMEN | G16: 1189.93 | K16: 1189.93
A17: COMUNA RURAL DIQUE F. AMEGHINO | G17: 709.33 | K17: 709.33
A18: COMUNA RURAL DR. ATILIO O. VIGLIONE | G18: 701.61 | K18: 701.61
A19: COMUNA RURAL FACUNDO | G19: 758.87 | K19: 758.87
A20: COMUNA RURAL GAN GAN | G20: 1064.8 | K20: 1064.8
... A28: COMUNA RURAL TELSEN | G28: 953.49 | K28: 953.49
A29: MUNICIPALIDAD DE CAMARONES | B29: 13041110 | C29: 3076250.8 | D29: 462419.18 | E29: 318101.47 | G29: 2005.42 | H29: 6473478 | K29: 23373365
A30: MUNICIPALIDAD DE CHOLILA | B30: 16514119 | C30: 3895494.3 | D30: 585567.12 | E30: 385693.56 | G30: 2993.97 | H30: 9078801.2 | K30: 30462669
A31: MUNICIPALIDAD DE COMODORO RIVADAVIA | B31: 4.4884395e+08 | C31: 1.0587723e+08 | D31: 15915367 | E31: 10424192 | G31: 128676.15 | H31: 1.0826679e+08 | K31: 6.8945621e+08
A32: MUNICIPALIDAD DE CORCOVADO | B32: 14040983 | C32: 3312109.4 | D32: 497873.24 | E32: 346179.76 | G32: 1984.51 | H32: 8252878.1 | K32: 26452008
A33: MUNICIPALIDAD DE DOLAVON | B33: 22500081 | C33: 5307515.3 | D33: 797820.82 | E33: 500252.98 | G33: 3945.53 | H33: 8498211.5 | K33: 37607827
A34: MUNICIPALIDAD DE EL HOYO | B34: 16428584 | C34: 3875317.6 | D34: 582534.18 | E34: 399273.24 | G34: 4170.72 | H34: 8363327 | K34: 29653207
A35: MUNICIPALIDAD DE EL MAITEN | B35: 23297914 | C35: 5495715.2 | D35: 826110.85 | E35: 528178.11 | G35: 4655.83 | H35: 11359131 | K35: 41511705
A36: MUNICIPALIDAD DE EPUYEN | B36: 13819772 | C36: 3259928.3 | D36: 490029.42 | E36: 335867.37 | G36: 2652.98 | H36: 7526652.2 | K36: 25434902
A37: MUNICIPALIDAD DE ESQUEL | B37: 88568354 | C37: 20892275 | D37: 3140507.6 | E37: 2104442.1 | G37: 13849.42 | H37: 34809484 | K37: 1.4952891e+08
A38: MUNICIPALIDAD DE GAIMAN | B38: 28932889 | C38: 6824942.2 | D38: 1025919 | E38: 656572.46 | G38: 5285.37 | H38: 11449543 | K38: 48895151
A39: MUNICIPALIDAD DE GOBERNADOR COSTA | B39: 17825161 | C39: 4204754.4 | D39: 632054.81 | E39: 416477.58 | G39: 2890.39 | H39: 8169797.1 | K39: 31251135
A40: MUNICIPALIDAD DE GUALJAINA | B40: 12585416 | C40: 2968757.7 | D40: 446260.92 | E40: 305900.18 | G40: 3298.94 | H40: 7104405.1 | K40: 23414039
... A53: MUNICIPALIDAD DE TREVELIN | B53: 27232516 | C53: 6423843.3 | D53: 965626.22 | E53: 16578187 | G53: 6155.55 | H53: 14409182 | K53: 65615510
A54: TOTALES | B54: 1.4747382e+09 | C54: 3.4787411e+08 | D54: 52292116 | E54: 51051431 | F54: 0 | G54: 321690.4 | H54: 4.8871191e+08 | I54: 0 | J54: 0 | K54: 2.4149895e+09

Sheet 24-08
A1: Coparticipación a Municipios
A2: 46258
A5: Municipios / Comunas | B5: Copar. Federal Impuestos LEY N°177 | C5: Consenso Fiscal | D5: Consenso Fiscal | E5: Regalias Hidroeléctricas | F5: Regalías Petroleras | G5: Regalías Gasíferas | H5: IIBB | I5: Bono Compensación Inc. A | J5: Bono Compensación Inc. B | K5: Total
C6: Punto I c) | D6: Punto II a) | E6: Bruto | F6: Bruto | G6: Bruto | K6: Bruto
A7: COMISION DE FOMENTO DE 28 DE JULIO | B7: 14766425 | C7: 3743317 | D7: 337346.9 | E7: 13 | F7: 24878009 | G7: 1108309 | J7: 2827859.5 | K7: 47661279
A8: COMISION DE FOMENTO DE PTO. PIRAMIDES | B8: 13957055 | C8: 3538140.2 | D8: 318856.41 | E8: 12.25 | F8: 22374690 | G8: 996786.74 | J8: 2543309.6 | K8: 43728850
A9: COMUNA RURAL ALDEA APELEG | F9: 8694235.4 | G9: 387325.97 | I9: 1604364.6 | J9: 988265.4 | K9: 11674191
A10: COMUNA RURAL ALDEA BELEIRO | F10: 9200616.4 | G10: 409885.11 | I10: 2381886.7 | J10: 1045825.2 | K10: 13038213
A11: COMUNA RURAL ALDEA EPULEF | F11: 8914756.2 | G11: 397150.11 | J11: 1013331.8 | K11: 10325238
A12: COMUNA RURAL BUEN PASTO | F12: 8338951.9 | G12: 371498.18 | I12: 1053136.3 | J12: 947880.67 | K12: 10711467
A13: COMUNA RURAL CARRENLEUFU | F13: 10074532 | G13: 448817.83 | J13: 1145162.4 | K13: 11668512
A14: COMUNA RURAL CERRO CENTINELA | F14: 8200105.5 | G14: 365312.61 | J14: 932098.13 | K14: 9497516.3
A15: COMUNA RURAL COLAN CONHUE | F15: 9559983.6 | G15: 425894.83 | J15: 1086674.2 | K15: 11072553
A16: COMUNA RURAL CUSHAMEN | F16: 15105672 | G16: 672953.85 | J16: 1717047.3 | K16: 17495674
A17: COMUNA RURAL DIQUE F. AMEGHINO | F17: 9004598 | G17: 401152.54 | J17: 1023544 | K17: 10429295
A18: COMUNA RURAL DR. ATILIO O. VIGLIONE | F18: 8906588.7 | G18: 396786.25 | I18: 1926398 | J18: 1012403.4 | K18: 12242176
A19: COMUNA RURAL FACUNDO | F19: 9633490.5 | G19: 429169.54 | I19: 3052064.4 | J19: 1095029.6 | K19: 14209754
A20: COMUNA RURAL GAN GAN | F20: 13517106 | G20: 602183.63 | J20: 1536476.5 | K20: 15655766
A21: COMUNA RURAL GASTRE | F21: 12332828 | G21: 549424.34 | J21: 1401860.7 | K21: 14284113
A22: COMUNA RURAL LAGO BLANCO | F22: 9417053.5 | G22: 419527.33 | I22: 2718426.1 | J22: 1070427.4 | K22: 13625434
A23: COMUNA RURAL LAGUNITA SALADA | F23: 8788160.9 | G23: 391510.32 | J23: 998941.82 | K23: 10178613
A24: COMUNA RURAL LAS PLUMAS | F24: 12169479 | G24: 542147.2 | J24: 1383293 | K24: 14094920
A25: COMUNA RURAL LOS ALTARES | F25: 9221035 | G25: 410794.75 | J25: 1048146.2 | K25: 10679976
A26: COMUNA RURAL PASO DEL SAPO | F26: 11532419 | G26: 513766.34 | J26: 1310879 | K26: 13357065
A27: COMUNA RURAL RICARDO ROJAS | F27: 9470141.8 | G27: 421892.4 | I27: 2799659.8 | J27: 1076461.9 | K27: 13768156
A28: COMUNA RURAL TELSEN | F28: 12104140 | G28: 539236.34 | J28: 1375866 | K28: 14019242
A29: MUNICIPALIDAD DE CAMARONES | B29: 16192894 | C29: 4104929.6 | D29: 369935.35 | E29: 14.26 | F29: 25457897 | G29: 1134142.8 | I29: 19559903 | J29: 2893774.8 | K29: 69713491
A30: MUNICIPALIDAD DE CHOLILA | B30: 20505261 | C30: 5198123 | D30: 468453.69 | E30: 17.29 | F30: 38007162 | G30: 1693209.4 | J30: 4320237.7 | K30: 70192464
A31: MUNICIPALIDAD DE COMODORO RIVADAVIA | B31: 5.5732083e+08 | C31: 1.412819e+08 | D31: 12732294 | E31: 467.29 | F31: 1.6334872e+09 | G31: 72771436 | I31: 2.4086764e+09 | J31: 1.8567692e+08 | K31: 5.0119474e+09
A32: MUNICIPALIDAD DE CORCOVADO | B32: 17434416 | C32: 4419657.9 | D32: 398298.59 | E32: 15.52 | F32: 25192456 | G32: 1122317.5 | J32: 2863602.3 | K32: 51430763
A33: MUNICIPALIDAD DE DOLAVON | B33: 27937914 | C33: 7082315 | D33: 638256.65 | E33: 22.43 | F33: 50086800 | G33: 2231354.1 | J33: 5693318.5 | K33: 93669981
A34: MUNICIPALIDAD DE EL HOYO | B34: 20399054 | C34: 5171199.3 | D34: 466027.34 | E34: 17.9 | F34: 52945403 | G34: 2358704.2 | J34: 6018253.1 | K34: 87358658
A35: MUNICIPALIDAD DE EL MAITEN | B35: 28928569 | C35: 7333447.7 | D35: 660888.68 | E35: 23.68 | F35: 59103649 | G35: 2633052.5 | J35: 6718255.1 | K35: 1.0537789e+08
A36: MUNICIPALIDAD DE EPUYEN | B36: 17159743 | C36: 4350027.8 | D36: 392023.54 | E36: 15.06 | F36: 33678421 | G36: 1500365.1 | J36: 3828193.9 | K36: 60908790
A37: MUNICIPALIDAD DE ESQUEL | B37: 1.0997361e+08 | C37: 27878521 | D37: 2512406.1 | E37: 94.34 | F37: 1.7581222e+08 | G37: 7832389.6 | J37: 19984407 | K37: 3.4399365e+08
A38: MUNICIPALIDAD DE GAIMAN | B38: 35925408 | C38: 9107159.8 | D38: 820735.22 | E38: 29.43 | F38: 67095485 | G38: 2989086.7 | J38: 7626679.4 | K38: 1.2356458e+08
A39: MUNICIPALIDAD DE GOBERNADOR COSTA | B39: 22133157 | C39: 5610797.7 | D39: 505643.85 | E39: 18.67 | F39: 36692205 | G39: 1634628.4 | I39: 32270068 | J39: 4170767.8 | K39: 1.0301729e+08
A40: MUNICIPALIDAD DE GUALJAINA | B40: 15627067 | C40: 3961491.5 | D40: 357008.74 | E40: 13.71 | F40: 41878527 | G40: 1865677.7 | J40: 4760292 | K40: 68450078
A41: MUNICIPALIDAD DE JOSE DE SAN MARTIN | B41: 20186640 | C41: 5117352 | D41: 461174.63 | E41: 16.94 | F41: 24865758 | G41: 1107763.2 | I41: 18889725 | J41: 2826466.9 | K41: 73454897
A42: MUNICIPALIDAD DE LAGO PUELO | B42: 28758271 | C42: 7290277 | D42: 656998.15 | E42: 25.23 | F42: 1.1465446e+08 | G42: 5107827.1 | J42: 13032663 | K42: 1.6950053e+08
A43: MUNICIPALIDAD DE PASO DE INDIOS | B43: 16125141 | C43: 4087754.2 | D43: 368387.5 | E43: 14.23 | F43: 53798900 | G43: 2396727.2 | J43: 6115269.3 | K43: 82892193
A44: MUNICIPALIDAD DE PUERTO MADRYN | B44: 2.3416796e+08 | C44: 59362026 | D44: 5349692.7 | E44: 205.47 | F44: 4.1774801e+08 | G44: 18610567 | J44: 47485015 | K44: 7.8272347e+08
A45: MUNICIPALIDAD DE RADA TILLY | B45: 37038749 | C45: 9389394 | D45: 846170.11 | E45: 32.5 | F45: 88420660 | G45: 3939117.8 | I45: 1.6154472e+08 | J45: 10050692 | K45: 3.1122954e+08
A46: MUNICIPALIDAD DE RAWSON | B46: 98389728 | C46: 24941985 | D46: 2247766.2 | E46: 86.33 | F46: 1.7993269e+08 | G46: 8015955.6 | J46: 20452777 | K46: 3.3398099e+08
A47: MUNICIPALIDAD DE RIO MAYO | B47: 22636724 | C47: 5738453 | D47: 517148.11 | E47: 20.17 | F47: 41641671 | G47: 1855125.8 | I47: 37872289 | J47: 4733368.8 | K47: 1.149948e+08
A48: MUNICIPALIDAD DE RIO PICO | B48: 17635843 | C48: 4470720 | D48: 402900.3 | E48: 15.52 | F48: 21954067 | G48: 978048.1 | I48: 15596861 | J48: 2495497.8 | K48: 63533953
A49: MUNICIPALIDAD DE RIO SENGUER | B49: 20571182 | C49: 5214834.2 | D49: 469959.71 | E49: 17.69 | F49: 26037785 | G49: 1159976.7 | I49: 20218476 | J49: 2959690.1 | K49: 76631922
A50: MUNICIPALIDAD DE SARMIENTO | B50: 51715447 | C50: 13109965 | D50: 1181467.2 | E50: 40.79 | F50: 91369104 | G50: 4070470.2 | I50: 1.7103745e+08 | J50: 10385838 | K50: 3.4286979e+08
A51: MUNICIPALIDAD DE TECKA | B51: 18205332 | C51: 4615086.5 | D51: 415910.58 | E51: 15.4 | F51: 21402765 | G51: 953487.74 | J51: 2432831.8 | K51: 48025429
A52: MUNICIPALIDAD DE TRELEW | B52: 3.1364736e+08 | C52: 79510207 | D52: 7165442.3 | E52: 280.28 | F52: 4.328741e+08 | G52: 19284430 | J52: 49204383 | K52: 9.016862e+08
A53: MUNICIPALIDAD DE TREVELIN | B53: 33814087 | C53: 8571936 | D53: 772500.97 | E53: 743.16 | F53: 78141942 | G53: 3481203.5 | J53: 8882319.6 | K53: 1.3366473e+08
A54: TOTALES | B54: 1.8311539e+09 | C54: 4.6420102e+08 | D54: 41833693 | E54: 2288.54 | F54: 4.0837179e+09 | G54: 1.8192859e+08 | H54: 0 | I54: 2.9012019e+09 | J54: 4.641923e+08 | K54: 9.9682315e+09

Sheet 01-09
A1: Coparticipación a Municipios
A2: 46266
A5: Municipios / Comunas | B5: Copar. Federal Impuestos LEY N°177 | C5: Consenso Fiscal | D5: Consenso Fiscal | E5: Regalias Hidroeléctricas | F5: Regalías Petroleras | G5: Regalías Gasíferas | H5: IIBB | I5: Bono Compensación Inc. A | J5: Bono Compensación Inc. B | K5: Total
C6: Punto I c) | D6: Punto II a) | E6: Bruto | F6: Bruto | G6: Bruto | K6: Bruto
A7: COMISION DE FOMENTO DE 28 DE JULIO | B7: 33634793 | C7: 3958037.3 | D7: 2886172 | K7: 40479002
A8: COMISION DE FOMENTO DE PTO. PIRAMIDES | B8: 31791219 | C8: 3741091.3 | D8: 2727976.5 | K8: 38260287
A9: COMUNA RURAL ALDEA APELEG
A10: COMUNA RURAL ALDEA BELEIRO
A11: COMUNA RURAL ALDEA EPULEF
A12: COMUNA RURAL BUEN PASTO
A13: COMUNA RURAL CARRENLEUFU
A14: COMUNA RURAL CERRO CENTINELA
A15: COMUNA RURAL COLAN CONHUE
A16: COMUNA RURAL CUSHAMEN
A17: COMUNA RURAL DIQUE F. AMEGHINO
A18: COMUNA RURAL DR. ATILIO O. VIGLIONE
A19: COMUNA RURAL FACUNDO
A20: COMUNA RURAL GAN GAN
... A28: COMUNA RURAL TELSEN
A29: MUNICIPALIDAD DE CAMARONES | B29: 36883988 | C29: 4340392.4 | D29: 3164982.5 | K29: 44389362
A30: MUNICIPALIDAD DE CHOLILA | B30: 46706649 | C30: 5496292.4 | D30: 4007856.4 | K30: 56210797
A31: MUNICIPALIDAD DE COMODORO RIVADAVIA | B31: 1.269459e+09 | C31: 1.4938597e+08 | D31: 1.0893116e+08 | K31: 1.5277761e+09
A32: MUNICIPALIDAD DE CORCOVADO | B32: 39711913 | C32: 4673173.8 | D32: 3407644.3 | K32: 47792731
A33: MUNICIPALIDAD DE DOLAVON | B33: 63636662 | C33: 7488563.5 | D33: 5460605.9 | K33: 76585831
A34: MUNICIPALIDAD DE EL HOYO | B34: 46464732 | C34: 5467824.4 | D34: 3987097.7 | K34: 55919654
A35: MUNICIPALIDAD DE EL MAITEN | B35: 65893163 | C35: 7754101.4 | D35: 5654234.2 | K35: 79301498
A36: MUNICIPALIDAD DE EPUYEN | B36: 39086266 | C36: 4599549.6 | D36: 3353958 | K36: 47039773
A37: MUNICIPALIDAD DE ESQUEL | B37: 2.5049662e+08 | C37: 29477660 | D37: 21494895 | K37: 3.0146918e+08
A38: MUNICIPALIDAD DE GAIMAN | B38: 81830482 | C38: 9629555.4 | D38: 7021801.6 | K38: 98481839
A39: MUNICIPALIDAD DE GOBERNADOR COSTA | B39: 50414651 | C39: 5932638.6 | D39: 4326036.8 | K39: 60673326
A40: MUNICIPALIDAD DE GUALJAINA | B40: 35595154 | C40: 4188726.5 | D40: 3054388.8 | K40: 42838270
... A53: MUNICIPALIDAD DE TREVELIN | B53: 77021341 | C53: 9063630.6 | D53: 6609133.4 | K53: 92694105
A54: TOTALES | B54: 4.1709813e+09 | C54: 4.9082804e+08 | D54: 3.5790823e+08 | E54: 0 | F54: 0 | G54: 0 | H54: 0 | I54: 0 | J54: 0 | K54: 5.0197176e+09

Sheet 08-09
A1: Coparticipación a Municipios
A2: 46273
A5: Municipios / Comunas | B5: Copar. Federal Impuestos LEY N°177 | C5: Consenso Fiscal | D5: Consenso Fiscal | E5: Regalias Hidroeléctricas | F5: Regalías Petroleras | G5: Regalías Gasíferas | H5: IIBB | I5: Bono Compensación Inc. A | J5: Bono Compensación Inc. B | K5: Total | L5: ISSyS | M5: Otras Retenciones | N5: Total | O5: Neto a
C6: Punto I c) | D6: Punto II a) | E6: Bruto | F6: Bruto | G6: Bruto | K6: Bruto | M6: Bruto | N6: Bruto | O6: Tranferir
A7: COMISION DE FOMENTO DE 28 DE JULIO | B7: 2763427.5 | C7: 412753.02 | D7: 421683.63 | F7: 19018797 | G7: 399334.49 | K7: 23015996 | O7: 23015996
A8: COMISION DE FOMENTO DE PTO. PIRAMIDES | B8: 2611959.8 | C8: 390129.41 | D8: 398570.51 | F8: 17105054 | G8: 359151.95 | K8: 20864866 | O8: 20864866
A9: COMUNA RURAL ALDEA APELEG | F9: 6646588.9 | G9: 139557.31 | K9: 6786146.2 | O9: 6786146.2
A10: COMUNA RURAL ALDEA BELEIRO | F10: 7033708.2 | G10: 147685.59 | K10: 7181393.8 | O10: 7181393.8
A11: COMUNA RURAL ALDEA EPULEF | F11: 6815173.1 | G11: 143097.04 | K11: 6958270.1 | O11: 6958270.1
A12: COMUNA RURAL BUEN PASTO | F12: 6374981 | G12: 133854.4 | K12: 6508835.4 | O12: 6508835.4
A13: COMUNA RURAL CARRENLEUFU | F13: 7701801.2 | G13: 161713.43 | K13: 7863514.6 | O13: 7863514.6
A14: COMUNA RURAL CERRO CENTINELA | F14: 6268835.3 | G14: 131625.68 | K14: 6400461 | O14: 6400461
A15: COMUNA RURAL COLAN CONHUE | F15: 7308438 | G15: 153454.05 | K15: 7461892.1 | O15: 7461892.1
A16: COMUNA RURAL CUSHAMEN | F16: 11548019 | G16: 242471.81 | K16: 11790491 | O16: 11790491
A17: COMUNA RURAL DIQUE F. AMEGHINO | F17: 6883855.5 | G17: 144539.16 | K17: 7028394.7 | O17: 7028394.7
A18: COMUNA RURAL DR. ATILIO O. VIGLIONE | F18: 6808929.2 | G18: 142965.94 | K18: 6951895.2 | O18: 6951895.2
A19: COMUNA RURAL FACUNDO | F19: 7364632.8 | G19: 154633.96 | K19: 7519266.7 | O19: 7519266.7
A20: COMUNA RURAL GAN GAN | F20: 10333588 | G20: 216972.61 | K20: 10550561 | O20: 10550561
... A28: COMUNA RURAL TELSEN | F28: 9253400.4 | G28: 194292.09 | K28: 9447692.5 | O28: 9447692.5
A29: MUNICIPALIDAD DE CAMARONES | B29: 3030380.6 | C29: 452625.87 | D29: 462419.18 | F29: 19462111 | G29: 408642.68 | K29: 23816180 | O29: 23816180
A30: MUNICIPALIDAD DE CHOLILA | B30: 3837408.3 | C30: 573165.72 | D30: 585567.12 | F30: 29055802 | G30: 610079.79 | K30: 34662023 | O30: 34662023
A31: MUNICIPALIDAD DE COMODORO RIVADAVIA | B31: 1.0429848e+08 | C31: 15578304 | D31: 15915367 | F31: 1.248772e+09 | G31: 26220255 | K31: 1.4107844e+09 | O31: 1.4107844e+09
A32: MUNICIPALIDAD DE CORCOVADO | B32: 3262722.3 | C32: 487329.06 | D32: 497873.24 | F32: 19259186 | G32: 404381.89 | K32: 23911492 | O32: 23911492
A33: MUNICIPALIDAD DE DOLAVON | B33: 5228374.6 | C33: 780924.22 | D33: 797820.82 | F33: 38290471 | G33: 803978.58 | K33: 45901569 | M33: 5228374.6 | N33: 5228374.6 | O33: 40673195
A34: MUNICIPALIDAD DE EL HOYO | B34: 3817532.5 | C34: 570197.01 | D34: 582534.18 | F34: 40475822 | G34: 849864.03 | K34: 46295950 | O34: 46295950
A35: MUNICIPALIDAD DE EL MAITEN | B35: 5413768.2 | C35: 808615.11 | D35: 826110.85 | F35: 45183692 | G35: 948714.39 | K35: 53180901 | O35: 53180901
A36: MUNICIPALIDAD DE EPUYEN | B36: 3211319.3 | C36: 479651.36 | D36: 490029.42 | F36: 25746556 | G36: 540596.12 | K36: 30468153 | O36: 30468153
A37: MUNICIPALIDAD DE ESQUEL | B37: 20580749 | C37: 3073996.6 | D37: 3140507.6 | F37: 1.3440533e+08 | G37: 2822086.1 | K37: 1.6402267e+08 | L37: 1.5780816e+08 | N37: 1.5780816e+08 | O37: 6214504.2
A38: MUNICIPALIDAD DE GAIMAN | B38: 6723175 | C38: 1004191.7 | D38: 1025919 | F38: 51293309 | G38: 1076997 | K38: 61123592 | M38: 6723175 | N38: 6723175 | O38: 54400417
A39: MUNICIPALIDAD DE GOBERNADOR COSTA | B39: 4142057 | C39: 618668.87 | D39: 632054.81 | F39: 28050541 | G39: 588972.49 | K39: 34032294 | O39: 34032294
A40: MUNICIPALIDAD DE GUALJAINA | B40: 2924490.3 | C40: 436809.81 | D40: 446260.92 | F40: 32015392 | G40: 672221.8 | K40: 36495175 | O40: 36495175
A41: MUNICIPALIDAD DE JOSE DE SAN MARTIN | B41: 3777780.8 | C41: 564259.59 | D41: 576468.29 | F41: 19009431 | G41: 399137.84 | K41: 24327078 | O41: 24327078
A42: MUNICIPALIDAD DE LAGO PUELO | B42: 5381898.3 | C42: 803854.94 | D42: 821247.69 | F42: 87651305 | G42: 1840399.7 | K42: 96498706 | O42: 96498706
A43: MUNICIPALIDAD DE PASO DE INDIOS | B43: 3017701.2 | C43: 450732.03 | D43: 460484.38 | F43: 41128305 | G43: 863564.11 | K43: 45920787 | O43: 45920787
A44: MUNICIPALIDAD DE PUERTO MADRYN | B44: 43822805 | C44: 6545493.1 | D44: 6687115.8 | F44: 3.1936095e+08 | G44: 6705568.1 | K44: 3.8312193e+08 | L44: 3.2606651e+08 | M44: 43822805 | N44: 3.6988932e+08 | O44: 13232609
A45: MUNICIPALIDAD DE RADA TILLY | B45: 6931528.7 | C45: 1035311.9 | D45: 1057712.6 | F45: 67596027 | G45: 1419302.4 | K45: 78039883 | L45: 75946858 | N45: 75946858 | O45: 2093024.6
A46: MUNICIPALIDAD DE RAWSON | B46: 18412912 | C46: 2750202.5 | D46: 2809707.7 | F46: 1.3755536e+08 | G46: 2888226.7 | K46: 1.644164e+08 | L46: 1.4044358e+08 | M46: 18412912 | N46: 1.5885649e+08 | O46: 5559910.2
A47: MUNICIPALIDAD DE RIO MAYO | B47: 4236295.9 | C47: 632744.65 | D47: 646435.14 | F47: 31834320 | G47: 668419.86 | K47: 38018215 | O47: 38018215
A48: MUNICIPALIDAD DE RIO PICO | B48: 3300417.9 | C48: 492959.37 | D48: 503625.37 | F48: 16783495 | G48: 352400.23 | K48: 21432898 | O48: 21432898
A49: MUNICIPALIDAD DE RIO SENGUER | B49: 3849745 | C49: 575008.37 | D49: 587449.63 | F49: 19905425 | G49: 417950.87 | K49: 25335579 | O49: 25335579
A50: MUNICIPALIDAD DE SARMIENTO | B50: 9678164.4 | C50: 1445556.9 | D50: 1476833.9 | F50: 69850061 | G50: 1466630 | K50: 83917246 | O50: 83917246
A51: MUNICIPALIDAD DE TECKA | B51: 3406993.5 | C51: 508877.8 | D51: 519888.22 | F51: 16362035 | G51: 343550.9 | K51: 21141345 | O51: 21141345
A52: MUNICIPALIDAD DE TRELEW | B52: 58696789 | C52: 8767111.7 | D52: 8956802.8 | F52: 3.3092458e+08 | G52: 6948367.7 | K52: 4.1429365e+08 | L52: 3.3787294e+08 | M52: 58696789 | N52: 3.9656973e+08 | O52: 17723915
A53: MUNICIPALIDAD DE TREVELIN | B53: 6328057 | C53: 945175.76 | D53: 965626.22 | F53: 59738130 | G53: 1254311.5 | K53: 69231300 | L53: 10002653 | N53: 10002653 | O53: 59228648
A54: TOTALES | B54: 3.4268694e+08 | C54: 51184651 | D54: 52292116 | E54: 0 | F54: 3.12193e+09 | G54: 65550639 | H54: 0 | I54: 0 | J54: 0 | K54: 3.6336443e+09 | L54: 1.0481407e+09 | M54: 1.3288406e+08 | N54: 1.1810248e+09 | O54: 2.4526195e+09

Sheet 16-09
A1: Coparticipación a Municipios
A2: 46281
A5: Municipios / Comunas | B5: Copar. Federal Impuestos LEY N°177 | C5: Consenso Fiscal | D5: Consenso Fiscal | E5: Regalias Hidroeléctricas | F5: Regalías Petroleras | G5: Regalías Gasíferas | H5: IIBB | I5: Bono Compensación Inc. A | J5: Bono Compensación Inc. B | K5: Total
C6: Punto I c) | D6: Punto II a) | E6: Bruto | F6: Bruto | G6: Bruto | K6: Bruto
A7: COMISION DE FOMENTO DE 28 DE JULIO | B7: 7809727.2 | C7: 1733751.2 | D7: 421683.63 | E7: 283567.51 | H7: 7131235.3 | K7: 17379965
A8: COMISION DE FOMENTO DE PTO. PIRAMIDES | B8: 7381664.2 | C8: 1638721.7 | D8: 398570.51 | E8: 267142.56 | H8: 6962396.4 | K8: 16648495
A9: COMUNA RURAL ALDEA APELEG
A10: COMUNA RURAL ALDEA BELEIRO
A11: COMUNA RURAL ALDEA EPULEF
A12: COMUNA RURAL BUEN PASTO
A13: COMUNA RURAL CARRENLEUFU
A14: COMUNA RURAL CERRO CENTINELA
A15: COMUNA RURAL COLAN CONHUE
A16: COMUNA RURAL CUSHAMEN
A17: COMUNA RURAL DIQUE F. AMEGHINO
A18: COMUNA RURAL DR. ATILIO O. VIGLIONE
A19: COMUNA RURAL FACUNDO
A20: COMUNA RURAL GAN GAN
... A28: COMUNA RURAL TELSEN
A29: MUNICIPALIDAD DE CAMARONES | B29: 8564163.8 | C29: 1901235.4 | D29: 462419.18 | E29: 311075.56 | H29: 7792471.7 | K29: 19031366
A30: MUNICIPALIDAD DE CHOLILA | B30: 10844906 | C30: 2407557.9 | D30: 585567.12 | E30: 377174.75 | H30: 10928639 | K30: 25143845
A31: MUNICIPALIDAD DE COMODORO RIVADAVIA | B31: 2.9475812e+08 | C31: 65435995 | D31: 15915367 | E31: 10193953 | H31: 1.3032653e+08 | K31: 5.1662997e+08
A32: MUNICIPALIDAD DE CORCOVADO | B32: 9220785.2 | C32: 2047004.7 | D32: 497873.24 | E32: 338533.68 | H32: 9934430.8 | K32: 22038628
A33: MUNICIPALIDAD DE DOLAVON | B33: 14775919 | C33: 3280238.5 | D33: 797820.82 | E33: 489203.88 | H33: 10229752 | K33: 29572933
A34: MUNICIPALIDAD DE EL HOYO | B34: 10788735 | C34: 2395087.9 | D34: 582534.18 | E34: 390454.49 | H34: 10067384 | K34: 24224196
A35: MUNICIPALIDAD DE EL MAITEN | B35: 15299860 | C35: 3396552.9 | D35: 826110.85 | E35: 516512.23 | H35: 13673594 | K35: 33712629
A36: MUNICIPALIDAD DE EPUYEN | B36: 9075515 | C36: 2014754.8 | D36: 490029.42 | E36: 328449.06 | H36: 9060233.8 | K36: 20968982
A37: MUNICIPALIDAD DE ESQUEL | B37: 58163292 | C37: 12912190 | D37: 3140507.6 | E37: 2057961.3 | H37: 41902037 | K37: 1.1817599e+08
A38: MUNICIPALIDAD DE GAIMAN | B38: 19000377 | C38: 4218063.7 | D38: 1025919 | E38: 642070.74 | H38: 13782427 | K38: 38668857
A39: MUNICIPALIDAD DE GOBERNADOR COSTA | B39: 11705875 | C39: 2598691.9 | D39: 632054.81 | E39: 407278.83 | H39: 9834421.7 | K39: 25178322
A40: MUNICIPALIDAD DE GUALJAINA | B40: 8264907.2 | C40: 1834800.7 | D40: 446260.92 | E40: 299143.76 | H40: 8551952.4 | K40: 19397065
... A53: MUNICIPALIDAD DE TREVELIN | B53: 17883733 | C53: 3970170 | D53: 965626.22 | E53: 16212024 | H53: 17345103 | K53: 56376656
A54: TOTALES | B54: 9.6846815e+08 | C54: 2.1499892e+08 | D54: 52292116 | E54: 49923858 | F54: 0 | G54: 0 | H54: 588288671 | I54: 0 | J54: 0 | K54: 1.8739717e+09

Sheet 23-09
A1: Coparticipación a Municipios
A2: 46288
A5: Municipios / Comunas | B5: Copar. Federal Impuestos LEY N°177 | C5: Consenso Fiscal | D5: Consenso Fiscal | E5: Regalias Hidroeléctricas | F5: Regalías Petroleras | G5: Regalías Gasíferas | H5: IIBB | I5: Bono Compensación Inc. A | J5: Bono Compensación Inc. B | K5: Total
C6: Punto I c) | D6: Punto II a) | E6: Bruto | F6: Bruto | G6: Bruto | K6: Bruto
A7: COMISION DE FOMENTO DE 28 DE JULIO | B7: 16640643 | C7: 4690229.7 | D7: 506020.35 | F7: 26147017 | G7: 1045399.4 | J7: 2976573.7 | K7: 52005883
A8: COMISION DE FOMENTO DE PTO. PIRAMIDES | B8: 15728544 | C8: 4433151.1 | D8: 478284.61 | F8: 23516005 | G8: 940207.34 | J8: 2677059.6 | K8: 47773252
A9: COMUNA RURAL ALDEA APELEG | F9: 9137721.3 | G9: 365340.65 | I9: 1688736.5 | J9: 1040237.3 | K9: 12232036
A10: COMUNA RURAL ALDEA BELEIRO | F10: 9669932.4 | G10: 386619.3 | I10: 2507147.7 | J10: 1100824.1 | K10: 13664524
A11: COMUNA RURAL ALDEA EPULEF | F11: 9369490.7 | G11: 374607.16 | J11: 1066621.9 | K11: 10810720
A12: COMUNA RURAL BUEN PASTO | F12: 8764315.1 | G12: 350411.28 | I12: 1108519.6 | J12: 997728.75 | K12: 11220975
A13: COMUNA RURAL CARRENLEUFU | F13: 10588426 | G13: 423342.12 | J13: 1205385.3 | K13: 12217153
A14: COMUNA RURAL CERRO CENTINELA | F14: 8618386.3 | G14: 344576.81 | J14: 981116.22 | K14: 9944079.3
A15: COMUNA RURAL COLAN CONHUE | F15: 10047631 | G15: 401720.27 | J15: 1143821.2 | K15: 11593172
A16: COMUNA RURAL CUSHAMEN | F16: 15876201 | G16: 634755.78 | J16: 1807345.1 | K16: 18318301
A17: COMUNA RURAL DIQUE F. AMEGHINO | F17: 9463915.2 | G17: 378382.4 | J17: 1077371.1 | K17: 10919669
A18: COMUNA RURAL DR. ATILIO O. VIGLIONE | F18: 9360906.6 | G18: 374263.95 | I18: 2027705.3 | J18: 1065644.7 | K18: 12828521
A19: COMUNA RURAL FACUNDO | F19: 10124887 | G19: 404809.11 | I19: 3212569.3 | J19: 1152616.1 | K19: 14894882
A20: COMUNA RURAL GAN GAN | F20: 14206603 | G20: 568002.61 | J20: 1617278.2 | K20: 16391884
A21: COMUNA RURAL GASTRE | F21: 12961916 | G21: 518238.03 | J21: 1475583.2 | K21: 14955737
A22: COMUNA RURAL LAGO BLANCO | F22: 9897409.8 | G22: 395714.2 | I22: 2861385.4 | J22: 1126720.1 | K22: 14281229
A23: COMUNA RURAL LAGUNITA SALADA | F23: 9236437.9 | G23: 369287.5 | J23: 1051475.1 | K23: 10657201
A24: COMUNA RURAL LAS PLUMAS | F24: 12790235 | G24: 511373.95 | J24: 1456039 | K24: 14757648
A25: COMUNA RURAL LOS ALTARES | F25: 9691392.6 | G25: 387477.31 | J25: 1103267.1 | K25: 11182137
A26: COMUNA RURAL PASO DEL SAPO | F26: 12120679 | G26: 484604.04 | J26: 1379816.8 | K26: 13985100
A27: COMUNA RURAL RICARDO ROJAS | F27: 9953206.1 | G27: 397945.03 | I27: 2946891 | J27: 1133072 | K27: 14431114
A28: COMUNA RURAL TELSEN | F28: 12721562 | G28: 508628.32 | J28: 1448221.4 | K28: 14678412
A29: MUNICIPALIDAD DE CAMARONES | B29: 18248166 | C29: 5143316.1 | D29: 554903.02 | F29: 26756484 | G29: 1069766.8 | I29: 20588538 | J29: 3045955.4 | K29: 75407129
A30: MUNICIPALIDAD DE CHOLILA | B30: 23107877 | C30: 6513044.6 | D30: 702680.54 | F30: 39945877 | G30: 1597099.8 | J30: 4547434.6 | K30: 76414014
A31: MUNICIPALIDAD DE COMODORO RIVADAVIA | B31: 6.280584e+08 | C31: 1.7702069e+08 | D31: 19098440 | F31: 1.71681e+09 | G31: 68640798 | I31: 2.5353463e+09 | J31: 1.9544148e+08 | K31: 5.3404161e+09
A32: MUNICIPALIDAD DE CORCOVADO | B32: 19647267 | C32: 5537658.3 | D32: 597447.89 | F32: 26477502 | G32: 1058612.7 | J32: 3014196.2 | K32: 56332685
A33: MUNICIPALIDAD DE DOLAVON | B33: 31483915 | C33: 8873863.3 | D33: 957384.98 | F33: 52641687 | G33: 2104698.5 | J33: 5992724.3 | K33: 1.0205427e+08
A34: MUNICIPALIDAD DE EL HOYO | B34: 22988190 | C34: 6479310.3 | D34: 699041.01 | F34: 55646105 | G34: 2224819.9 | J34: 6334746.9 | K34: 94372213
A35: MUNICIPALIDAD DE EL MAITEN | B35: 32600308 | C35: 9188522.8 | D35: 991333.02 | F35: 62118478 | G35: 2483595.7 | J35: 7071561.3 | K35: 1.144538e+08
A36: MUNICIPALIDAD DE EPUYEN | B36: 19337732 | C36: 5450414.5 | D36: 588035.31 | F36: 35396331 | G36: 1415201.7 | J36: 4029514.7 | K36: 66217228
A37: MUNICIPALIDAD DE ESQUEL | B37: 1.2393193e+08 | C37: 34930695 | D37: 3768609.1 | F37: 1.8478026e+08 | G37: 7387809.1 | J37: 21035366 | K37: 3.7583467e+08
A38: MUNICIPALIDAD DE GAIMAN | B38: 40485216 | C38: 11410915 | D38: 1231102.8 | F38: 70517971 | G38: 2819420.8 | J38: 8027758.7 | K38: 1.3449238e+08
A39: MUNICIPALIDAD DE GOBERNADOR COSTA | B39: 24942393 | C39: 7030109.9 | D39: 758465.77 | F39: 38563845 | G39: 1541843.9 | I39: 33967118 | J39: 4390104.2 | K39: 1.1119388e+08
A40: MUNICIPALIDAD DE GUALJAINA | B40: 17610522 | C40: 4963593.8 | D40: 535513.1 | F40: 44014717 | G40: 1759778.5 | J40: 5010630.9 | K40: 73894755
A41: MUNICIPALIDAD DE JOSE DE SAN MARTIN | B41: 22748816 | C41: 6411841.7 | D41: 691761.95 | F41: 26134140 | G41: 1044884.6 | I41: 19883117 | J41: 2975107.9 | K41: 79889669
A42: MUNICIPALIDAD DE LAGO PUELO | B42: 32408395 | C42: 9134431.7 | D42: 985497.22 | F42: 1.205029e+08 | G42: 4817897.6 | J42: 13718037 | K42: 1.8156715e+08
A43: MUNICIPALIDAD DE PASO DE INDIOS | B43: 18171813 | C43: 5121795.9 | D43: 552581.25 | F43: 56543138 | G43: 2260684.7 | J43: 6436865.1 | K43: 89086878
A44: MUNICIPALIDAD DE PUERTO MADRYN | B44: 2.6388956e+08 | C44: 74378295 | D44: 8024539 | F44: 4.3905699e+08 | G44: 17554198 | J44: 49982204 | K44: 8.5288579e+08
A45: MUNICIPALIDAD DE RADA TILLY | B45: 41739867 | C45: 11764543 | D45: 1269255.2 | F45: 92930926 | G45: 3715526.4 | I45: 1.7004019e+08 | J45: 10579247 | K45: 3.3203956e+08
A46: MUNICIPALIDAD DE RAWSON | B46: 1.1087778e+08 | C46: 31251331 | D46: 3371649.2 | F46: 1.8911092e+08 | G46: 7560955.5 | J46: 21528367 | K46: 3.63701e+08
A47: MUNICIPALIDAD DE RIO MAYO | B47: 25509875 | C47: 7190056.9 | D47: 775722.17 | F47: 43765779 | G47: 1749825.6 | I47: 39863954 | J47: 4982291.9 | K47: 1.238375e+08
A48: MUNICIPALIDAD DE RIO PICO | B48: 19874260 | C48: 5601637.1 | D48: 604350.45 | F48: 23073927 | G48: 922532.33 | I48: 16417084 | J48: 2626733.5 | K48: 69120524
A49: MUNICIPALIDAD DE RIO SENGUER | B49: 23182166 | C49: 6533983.1 | D49: 704939.56 | F49: 27365952 | G49: 1094134.3 | I49: 21281745 | J49: 3115337.2 | K49: 83278256
A50: MUNICIPALIDAD DE SARMIENTO | B50: 58279395 | C50: 16426273 | D50: 1772200.7 | F50: 96029768 | G50: 3839423.1 | I50: 1.8003214e+08 | J50: 10932019 | K50: 3.6731122e+08
A51: MUNICIPALIDAD DE TECKA | B51: 20516031 | C51: 5782522.7 | D51: 623865.86 | F51: 22494503 | G51: 899366.06 | J51: 2560772 | K51: 52877061
A52: MUNICIPALIDAD DE TRELEW | B52: 3.5345684e+08 | C52: 99623177 | D52: 10748163 | F52: 4.5495465e+08 | G52: 18189812 | J52: 51791992 | K52: 9.8876463e+08
A53: MUNICIPALIDAD DE TREVELIN | B53: 38105917 | C53: 10740300 | D53: 1158751.5 | F53: 82127899 | G53: 3283604.2 | J53: 9349431.7 | K53: 1.447659e+08
A54: TOTALES | B54: 2.0635718e+09 | C54: 5.816257e+08 | D54: 62750540 | E54: 0 | F54: 4.292025e+09 | G54: 1.71602e+08 | H54: 0 | I54: 3.0537731e+09 | J54: 4.886037e+08 | K54: 1.0713952e+10

Sheet Total Trimestre
A1: Coparticipación a Municipios
A2: Tercer Trimestre 2026
A5: Municipios / Comunas | B5: Copar. Federal Impuestos LEY N°177 | C5: Consenso Fiscal | D5: Consenso Fiscal | E5: Regalias Hidroeléctricas | F5: Regalías Petroleras | G5: Regalías Gasíferas | H5: IIBB | I5: Bono Compensación Inc. A | J5: Bono Compensación Inc. B | K5: Total
C6: Punto I c) | D6: Punto II a) | E6: Bruto | F6: Bruto | G6: Bruto | K6: Bruto
A7: COMISION DE FOMENTO DE 28 DE JULIO | B7: =+'01-07'!B7+'08-07'!B7+'15-07'!B7+'23-07'!B7+'03-08'!B7+'10-08'!B7+'18-08'!B7+'24-08'!B7+'01-09'!B7+'08-09'!B7+'16-09'!B7+'23-09'!B7 -> 1.9003178e+08 | C7: =+'01-07'!C7+'08-07'!C7+'15-07'!C7+'23-07'!C7+'03-08'!C7+'10-08'!C7+'18-08'!C7+'24-08'!C7+'01-09'!C7+'08-09'!C7+'16-09'!C7+'23-09'!C7 -> 33453240 | D7: =+'01-07'!D7+'08-07'!D7+'15-07'!D7+'23-07'!D7+'03-08'!D7+'10-08'!D7+'18-08'!D7+'24-08'!D7+'01-09'!D7+'08-09'!D7+'16-09'!D7+'23-09'!D7 -> 7639886.5 | E7: =+'01-07'!E7+'08-07'!E7+'15-07'!E7+'23-07'!E7+'03-08'!E7+'10-08'!E7+'18-08'!E7+'24-08'!E7+'01-09'!E7+'08-09'!E7+'16-09'!E7+'23-09'!E7 -> 962199.04 | F7: =+'01-07'!F7+'08-07'!F7+'15-07'!F7+'23-07'!F7+'03-08'!F7+'10-08'!F7+'18-08'!F7+'24-08'!F7+'01-09'!F7+'08-09'!F7+'16-09'!F7+'23-09'!F7 -> 1.3486212e+08 | G7: =+'01-07'!G7+'08-07'!G7+'15-07'!G7+'23-07'!G7+'03-08'!G7+'10-08'!G7+'18-08'!G7+'24-08'!G7+'01-09'!G7+'08-09'!G7+'16-09'!G7+'23-09'!G7 -> 4406110.5 | H7: =+'01-07'!H7+'08-07'!H7+'15-07'!H7+'23-07'!H7+'03-08'!H7+'10-08'!H7+'18-08'!H7+'24-08'!H7+'01-09'!H7+'08-09'!H7+'16-09'!H7+'23-09'!H7 -> 17346785 | I7: =+'01-07'!I7+'08-07'!I7+'15-07'!I7+'23-07'!I7+'03-08'!I7+'10-08'!I7+'18-08'!I7+'24-08'!I7+'01-09'!I7+'08-09'!I7+'16-09'!I7+'23-09'!I7 -> 0 | J7: =+'01-07'!J7+'08-07'!J7+'15-07'!J7+'23-07'!J7+'03-08'!J7+'10-08'!J7+'18-08'!J7+'24-08'!J7+'01-09'!J7+'08-09'!J7+'16-09'!J7+'23-09'!J7 -> 8976827.5 | K7: =SUM(B7:J7) -> 3.9767895e+08
A8: COMISION DE FOMENTO DE PTO. PIRAMIDES | B8: =+'01-07'!B8+'08-07'!B8+'15-07'!B8+'23-07'!B8+'03-08'!B8+'10-08'!B8+'18-08'!B8+'24-08'!B8+'01-09'!B8+'08-09'!B8+'16-09'!B8+'23-09'!B8 -> 1.7961585e+08 | C8: =+'01-07'!C8+'08-07'!C8+'15-07'!C8+'23-07'!C8+'03-08'!C8+'10-08'!C8+'18-08'!C8+'24-08'!C8+'01-09'!C8+'08-09'!C8+'16-09'!C8+'23-09'!C8 -> 31619618 | D8: =+'01-07'!D8+'08-07'!D8+'15-07'!D8+'23-07'!D8+'03-08'!D8+'10-08'!D8+'18-08'!D8+'24-08'!D8+'01-09'!D8+'08-09'!D8+'16-09'!D8+'23-09'!D8 -> 7221132.8 | E8: =+'01-07'!E8+'08-07'!E8+'15-07'!E8+'23-07'!E8+'03-08'!E8+'10-08'!E8+'18-08'!E8+'24-08'!E8+'01-09'!E8+'08-09'!E8+'16-09'!E8+'23-09'!E8 -> 906466.03 | F8: =+'01-07'!F8+'08-07'!F8+'15-07'!F8+'23-07'!F8+'03-08'!F8+'10-08'!F8+'18-08'!F8+'24-08'!F8+'01-09'!F8+'08-09'!F8+'16-09'!F8+'23-09'!F8 -> 1.2129178e+08 | G8: =+'01-07'!G8+'08-07'!G8+'15-07'!G8+'23-07'!G8+'03-08'!G8+'10-08'!G8+'18-08'!G8+'24-08'!G8+'01-09'!G8+'08-09'!G8+'16-09'!G8+'23-09'!G8 -> 3962751.1 | H8: =+'01-07'!H8+'08-07'!H8+'15-07'!H8+'23-07'!H8+'03-08'!H8+'10-08'!H8+'18-08'!H8+'24-08'!H8+'01-09'!H8+'08-09'!H8+'16-09'!H8+'23-09'!H8 -> 16936083 | I8: =+'01-07'!I8+'08-07'!I8+'15-07'!I8+'23-07'!I8+'03-08'!I8+'10-08'!I8+'18-08'!I8+'24-08'!I8+'01-09'!I8+'08-09'!I8+'16-09'!I8+'23-09'!I8 -> 0 | J8: =+'01-07'!J8+'08-07'!J8+'15-07'!J8+'23-07'!J8+'03-08'!J8+'10-08'!J8+'18-08'!J8+'24-08'!J8+'01-09'!J8+'08-09'!J8+'16-09'!J8+'23-09'!J8 -> 8073545.2 | K8: =SUM(B8:J8) -> 3.6962723e+08
A9: COMUNA RURAL ALDEA APELEG | B9: =+'01-07'!B9+'08-07'!B9+'15-07'!B9+'23-07'!B9+'03-08'!B9+'10-08'!B9+'18-08'!B9+'24-08'!B9+'01-09'!B9+'08-09'!B9+'16-09'!B9+'23-09'!B9 -> 0 | C9: =+'01-07'!C9+'08-07'!C9+'15-07'!C9+'23-07'!C9+'03-08'!C9+'10-08'!C9+'18-08'!C9+'24-08'!C9+'01-09'!C9+'08-09'!C9+'16-09'!C9+'23-09'!C9 -> 0 | D9: =+'01-07'!D9+'08-07'!D9+'15-07'!D9+'23-07'!D9+'03-08'!D9+'10-08'!D9+'18-08'!D9+'24-08'!D9+'01-09'!D9+'08-09'!D9+'16-09'!D9+'23-09'!D9 -> 0 | E9: =+'01-07'!E9+'08-07'!E9+'15-07'!E9+'23-07'!E9+'03-08'!E9+'10-08'!E9+'18-08'!E9+'24-08'!E9+'01-09'!E9+'08-09'!E9+'16-09'!E9+'23-09'!E9 -> 0 | F9: =+'01-07'!F9+'08-07'!F9+'15-07'!F9+'23-07'!F9+'03-08'!F9+'10-08'!F9+'18-08'!F9+'24-08'!F9+'01-09'!F9+'08-09'!F9+'16-09'!F9+'23-09'!F9 -> 47130901 | G9: =+'01-07'!G9+'08-07'!G9+'15-07'!G9+'23-07'!G9+'03-08'!G9+'10-08'!G9+'18-08'!G9+'24-08'!G9+'01-09'!G9+'08-09'!G9+'16-09'!G9+'23-09'!G9 -> 1539824.2 | H9: =+'01-07'!H9+'08-07'!H9+'15-07'!H9+'23-07'!H9+'03-08'!H9+'10-08'!H9+'18-08'!H9+'24-08'!H9+'01-09'!H9+'08-09'!H9+'16-09'!H9+'23-09'!H9 -> 0 | I9: =+'01-07'!I9+'08-07'!I9+'15-07'!I9+'23-07'!I9+'03-08'!I9+'10-08'!I9+'18-08'!I9+'24-08'!I9+'01-09'!I9+'08-09'!I9+'16-09'!I9+'23-09'!I9 -> 5092935 | J9: =+'01-07'!J9+'08-07'!J9+'15-07'!J9+'23-07'!J9+'03-08'!J9+'10-08'!J9+'18-08'!J9+'24-08'!J9+'01-09'!J9+'08-09'!J9+'16-09'!J9+'23-09'!J9 -> 3137174.3 | K9: =SUM(B9:J9) -> 56900835
A10: COMUNA RURAL ALDEA BELEIRO | B10: =+'01-07'!B10+'08-07'!B10+'15-07'!B10+'23-07'!B10+'03-08'!B10+'10-08'!B10+'18-08'!B10+'24-08'!B10+'01-09'!B10+'08-09'!B10+'16-09'!B10+'23-09'!B10 -> 0 | C10: =+'01-07'!C10+'08-07'!C10+'15-07'!C10+'23-07'!C10+'03-08'!C10+'10-08'!C10+'18-08'!C10+'24-08'!C10+'01-09'!C10+'08-09'!C10+'16-09'!C10+'23-09'!C10 -> 0 | D10: =+'01-07'!D10+'08-07'!D10+'15-07'!D10+'23-07'!D10+'03-08'!D10+'10-08'!D10+'18-08'!D10+'24-08'!D10+'01-09'!D10+'08-09'!D10+'16-09'!D10+'23-09'!D10 -> 0 | E10: =+'01-07'!E10+'08-07'!E10+'15-07'!E10+'23-07'!E10+'03-08'!E10+'10-08'!E10+'18-08'!E10+'24-08'!E10+'01-09'!E10+'08-09'!E10+'16-09'!E10+'23-09'!E10 -> 0 | F10: =+'01-07'!F10+'08-07'!F10+'15-07'!F10+'23-07'!F10+'03-08'!F10+'10-08'!F10+'18-08'!F10+'24-08'!F10+'01-09'!F10+'08-09'!F10+'16-09'!F10+'23-09'!F10 -> 49875961 | G10: =+'01-07'!G10+'08-07'!G10+'15-07'!G10+'23-07'!G10+'03-08'!G10+'10-08'!G10+'18-08'!G10+'24-08'!G10+'01-09'!G10+'08-09'!G10+'16-09'!G10+'23-09'!G10 -> 1629508.7 | H10: =+'01-07'!H10+'08-07'!H10+'15-07'!H10+'23-07'!H10+'03-08'!H10+'10-08'!H10+'18-08'!H10+'24-08'!H10+'01-09'!H10+'08-09'!H10+'16-09'!H10+'23-09'!H10 -> 0 | I10: =+'01-07'!I10+'08-07'!I10+'15-07'!I10+'23-07'!I10+'03-08'!I10+'10-08'!I10+'18-08'!I10+'24-08'!I10+'01-09'!I10+'08-09'!I10+'16-09'!I10+'23-09'!I10 -> 7561120.5 | J10: =+'01-07'!J10+'08-07'!J10+'15-07'!J10+'23-07'!J10+'03-08'!J10+'10-08'!J10+'18-08'!J10+'24-08'!J10+'01-09'!J10+'08-09'!J10+'16-09'!J10+'23-09'!J10 -> 3319893.7 | K10: =SUM(B10:J10) -> 62386484
A11: COMUNA RURAL ALDEA EPULEF | B11: =+'01-07'!B11+'08-07'!B11+'15-07'!B11+'23-07'!B11+'03-08'!B11+'10-08'!B11+'18-08'!B11+'24-08'!B11+'01-09'!B11+'08-09'!B11+'16-09'!B11+'23-09'!B11 -> 0 | C11: =+'01-07'!C11+'08-07'!C11+'15-07'!C11+'23-07'!C11+'03-08'!C11+'10-08'!C11+'18-08'!C11+'24-08'!C11+'01-09'!C11+'08-09'!C11+'16-09'!C11+'23-09'!C11 -> 0 | D11: =+'01-07'!D11+'08-07'!D11+'15-07'!D11+'23-07'!D11+'03-08'!D11+'10-08'!D11+'18-08'!D11+'24-08'!D11+'01-09'!D11+'08-09'!D11+'16-09'!D11+'23-09'!D11 -> 0 | E11: =+'01-07'!E11+'08-07'!E11+'15-07'!E11+'23-07'!E11+'03-08'!E11+'10-08'!E11+'18-08'!E11+'24-08'!E11+'01-09'!E11+'08-09'!E11+'16-09'!E11+'23-09'!E11 -> 0 | F11: =+'01-07'!F11+'08-07'!F11+'15-07'!F11+'23-07'!F11+'03-08'!F11+'10-08'!F11+'18-08'!F11+'24-08'!F11+'01-09'!F11+'08-09'!F11+'16-09'!F11+'23-09'!F11 -> 48326330 | G11: =+'01-07'!G11+'08-07'!G11+'15-07'!G11+'23-07'!G11+'03-08'!G11+'10-08'!G11+'18-08'!G11+'24-08'!G11+'01-09'!G11+'08-09'!G11+'16-09'!G11+'23-09'!G11 -> 1578880.4 | H11: =+'01-07'!H11+'08-07'!H11+'15-07'!H11+'23-07'!H11+'03-08'!H11+'10-08'!H11+'18-08'!H11+'24-08'!H11+'01-09'!H11+'08-09'!H11+'16-09'!H11+'23-09'!H11 -> 0 | I11: =+'01-07'!I11+'08-07'!I11+'15-07'!I11+'23-07'!I11+'03-08'!I11+'10-08'!I11+'18-08'!I11+'24-08'!I11+'01-09'!I11+'08-09'!I11+'16-09'!I11+'23-09'!I11 -> 0 | J11: =+'01-07'!J11+'08-07'!J11+'15-07'!J11+'23-07'!J11+'03-08'!J11+'10-08'!J11+'18-08'!J11+'24-08'!J11+'01-09'!J11+'08-09'!J11+'16-09'!J11+'23-09'!J11 -> 3216745.6 | K11: =SUM(B11:J11) -> 53121956
A12: COMUNA RURAL BUEN PASTO | B12: =+'01-07'!B12+'08-07'!B12+'15-07'!B12+'23-07'!B12+'03-08'!B12+'10-08'!B12+'18-08'!B12+'24-08'!B12+'01-09'!B12+'08-09'!B12+'16-09'!B12+'23-09'!B12 -> 0 | C12: =+'01-07'!C12+'08-07'!C12+'15-07'!C12+'23-07'!C12+'03-08'!C12+'10-08'!C12+'18-08'!C12+'24-08'!C12+'01-09'!C12+'08-09'!C12+'16-09'!C12+'23-09'!C12 -> 0 | D12: =+'01-07'!D12+'08-07'!D12+'15-07'!D12+'23-07'!D12+'03-08'!D12+'10-08'!D12+'18-08'!D12+'24-08'!D12+'01-09'!D12+'08-09'!D12+'16-09'!D12+'23-09'!D12 -> 0 | E12: =+'01-07'!E12+'08-07'!E12+'15-07'!E12+'23-07'!E12+'03-08'!E12+'10-08'!E12+'18-08'!E12+'24-08'!E12+'01-09'!E12+'08-09'!E12+'16-09'!E12+'23-09'!E12 -> 0 | F12: =+'01-07'!F12+'08-07'!F12+'15-07'!F12+'23-07'!F12+'03-08'!F12+'10-08'!F12+'18-08'!F12+'24-08'!F12+'01-09'!F12+'08-09'!F12+'16-09'!F12+'23-09'!F12 -> 45204932 | G12: =+'01-07'!G12+'08-07'!G12+'15-07'!G12+'23-07'!G12+'03-08'!G12+'10-08'!G12+'18-08'!G12+'24-08'!G12+'01-09'!G12+'08-09'!G12+'16-09'!G12+'23-09'!G12 -> 1476900.5 | H12: =+'01-07'!H12+'08-07'!H12+'15-07'!H12+'23-07'!H12+'03-08'!H12+'10-08'!H12+'18-08'!H12+'24-08'!H12+'01-09'!H12+'08-09'!H12+'16-09'!H12+'23-09'!H12 -> 0 | I12: =+'01-07'!I12+'08-07'!I12+'15-07'!I12+'23-07'!I12+'03-08'!I12+'10-08'!I12+'18-08'!I12+'24-08'!I12+'01-09'!I12+'08-09'!I12+'16-09'!I12+'23-09'!I12 -> 3343102 | J12: =+'01-07'!J12+'08-07'!J12+'15-07'!J12+'23-07'!J12+'03-08'!J12+'10-08'!J12+'18-08'!J12+'24-08'!J12+'01-09'!J12+'08-09'!J12+'16-09'!J12+'23-09'!J12 -> 3008976 | K12: =SUM(B12:J12) -> 53033910
A13: COMUNA RURAL CARRENLEUFU | B13: =+'01-07'!B13+'08-07'!B13+'15-07'!B13+'23-07'!B13+'03-08'!B13+'10-08'!B13+'18-08'!B13+'24-08'!B13+'01-09'!B13+'08-09'!B13+'16-09'!B13+'23-09'!B13 -> 0 | C13: =+'01-07'!C13+'08-07'!C13+'15-07'!C13+'23-07'!C13+'03-08'!C13+'10-08'!C13+'18-08'!C13+'24-08'!C13+'01-09'!C13+'08-09'!C13+'16-09'!C13+'23-09'!C13 -> 0 | D13: =+'01-07'!D13+'08-07'!D13+'15-07'!D13+'23-07'!D13+'03-08'!D13+'10-08'!D13+'18-08'!D13+'24-08'!D13+'01-09'!D13+'08-09'!D13+'16-09'!D13+'23-09'!D13 -> 0 | E13: =+'01-07'!E13+'08-07'!E13+'15-07'!E13+'23-07'!E13+'03-08'!E13+'10-08'!E13+'18-08'!E13+'24-08'!E13+'01-09'!E13+'08-09'!E13+'16-09'!E13+'23-09'!E13 -> 0 | F13: =+'01-07'!F13+'08-07'!F13+'15-07'!F13+'23-07'!F13+'03-08'!F13+'10-08'!F13+'18-08'!F13+'24-08'!F13+'01-09'!F13+'08-09'!F13+'16-09'!F13+'23-09'!F13 -> 54613402 | G13: =+'01-07'!G13+'08-07'!G13+'15-07'!G13+'23-07'!G13+'03-08'!G13+'10-08'!G13+'18-08'!G13+'24-08'!G13+'01-09'!G13+'08-09'!G13+'16-09'!G13+'23-09'!G13 -> 1784286.7 | H13: =+'01-07'!H13+'08-07'!H13+'15-07'!H13+'23-07'!H13+'03-08'!H13+'10-08'!H13+'18-08'!H13+'24-08'!H13+'01-09'!H13+'08-09'!H13+'16-09'!H13+'23-09'!H13 -> 0 | I13: =+'01-07'!I13+'08-07'!I13+'15-07'!I13+'23-07'!I13+'03-08'!I13+'10-08'!I13+'18-08'!I13+'24-08'!I13+'01-09'!I13+'08-09'!I13+'16-09'!I13+'23-09'!I13 -> 0 | J13: =+'01-07'!J13+'08-07'!J13+'15-07'!J13+'23-07'!J13+'03-08'!J13+'10-08'!J13+'18-08'!J13+'24-08'!J13+'01-09'!J13+'08-09'!J13+'16-09'!J13+'23-09'!J13 -> 3635232 | K13: =SUM(B13:J13) -> 60032921
A14: COMUNA RURAL CERRO CENTINELA | B14: =+'01-07'!B14+'08-07'!B14+'15-07'!B14+'23-07'!B14+'03-08'!B14+'10-08'!B14+'18-08'!B14+'24-08'!B14+'01-09'!B14+'08-09'!B14+'16-09'!B14+'23-09'!B14 -> 0 | C14: =+'01-07'!C14+'08-07'!C14+'15-07'!C14+'23-07'!C14+'03-08'!C14+'10-08'!C14+'18-08'!C14+'24-08'!C14+'01-09'!C14+'08-09'!C14+'16-09'!C14+'23-09'!C14 -> 0 | D14: =+'01-07'!D14+'08-07'!D14+'15-07'!D14+'23-07'!D14+'03-08'!D14+'10-08'!D14+'18-08'!D14+'24-08'!D14+'01-09'!D14+'08-09'!D14+'16-09'!D14+'23-09'!D14 -> 0 | E14: =+'01-07'!E14+'08-07'!E14+'15-07'!E14+'23-07'!E14+'03-08'!E14+'10-08'!E14+'18-08'!E14+'24-08'!E14+'01-09'!E14+'08-09'!E14+'16-09'!E14+'23-09'!E14 -> 0 | F14: =+'01-07'!F14+'08-07'!F14+'15-07'!F14+'23-07'!F14+'03-08'!F14+'10-08'!F14+'18-08'!F14+'24-08'!F14+'01-09'!F14+'08-09'!F14+'16-09'!F14+'23-09'!F14 -> 44452254 | G14: =+'01-07'!G14+'08-07'!G14+'15-07'!G14+'23-07'!G14+'03-08'!G14+'10-08'!G14+'18-08'!G14+'24-08'!G14+'01-09'!G14+'08-09'!G14+'16-09'!G14+'23-09'!G14 -> 1452309.6 | H14: =+'01-07'!H14+'08-07'!H14+'15-07'!H14+'23-07'!H14+'03-08'!H14+'10-08'!H14+'18-08'!H14+'24-08'!H14+'01-09'!H14+'08-09'!H14+'16-09'!H14+'23-09'!H14 -> 0 | I14: =+'01-07'!I14+'08-07'!I14+'15-07'!I14+'23-07'!I14+'03-08'!I14+'10-08'!I14+'18-08'!I14+'24-08'!I14+'01-09'!I14+'08-09'!I14+'16-09'!I14+'23-09'!I14 -> 0 | J14: =+'01-07'!J14+'08-07'!J14+'15-07'!J14+'23-07'!J14+'03-08'!J14+'10-08'!J14+'18-08'!J14+'24-08'!J14+'01-09'!J14+'08-09'!J14+'16-09'!J14+'23-09'!J14 -> 2958875.5 | K14: =SUM(B14:J14) -> 48863439
A15: COMUNA RURAL COLAN CONHUE | B15: =+'01-07'!B15+'08-07'!B15+'15-07'!B15+'23-07'!B15+'03-08'!B15+'10-08'!B15+'18-08'!B15+'24-08'!B15+'01-09'!B15+'08-09'!B15+'16-09'!B15+'23-09'!B15 -> 0 | C15: =+'01-07'!C15+'08-07'!C15+'15-07'!C15+'23-07'!C15+'03-08'!C15+'10-08'!C15+'18-08'!C15+'24-08'!C15+'01-09'!C15+'08-09'!C15+'16-09'!C15+'23-09'!C15 -> 0 | D15: =+'01-07'!D15+'08-07'!D15+'15-07'!D15+'23-07'!D15+'03-08'!D15+'10-08'!D15+'18-08'!D15+'24-08'!D15+'01-09'!D15+'08-09'!D15+'16-09'!D15+'23-09'!D15 -> 0 | E15: =+'01-07'!E15+'08-07'!E15+'15-07'!E15+'23-07'!E15+'03-08'!E15+'10-08'!E15+'18-08'!E15+'24-08'!E15+'01-09'!E15+'08-09'!E15+'16-09'!E15+'23-09'!E15 -> 0 | F15: =+'01-07'!F15+'08-07'!F15+'15-07'!F15+'23-07'!F15+'03-08'!F15+'10-08'!F15+'18-08'!F15+'24-08'!F15+'01-09'!F15+'08-09'!F15+'16-09'!F15+'23-09'!F15 -> 51824067 | G15: =+'01-07'!G15+'08-07'!G15+'15-07'!G15+'23-07'!G15+'03-08'!G15+'10-08'!G15+'18-08'!G15+'24-08'!G15+'01-09'!G15+'08-09'!G15+'16-09'!G15+'23-09'!G15 -> 1693155.7 | H15: =+'01-07'!H15+'08-07'!H15+'15-07'!H15+'23-07'!H15+'03-08'!H15+'10-08'!H15+'18-08'!H15+'24-08'!H15+'01-09'!H15+'08-09'!H15+'16-09'!H15+'23-09'!H15 -> 0 | I15: =+'01-07'!I15+'08-07'!I15+'15-07'!I15+'23-07'!I15+'03-08'!I15+'10-08'!I15+'18-08'!I15+'24-08'!I15+'01-09'!I15+'08-09'!I15+'16-09'!I15+'23-09'!I15 -> 0 | J15: =+'01-07'!J15+'08-07'!J15+'15-07'!J15+'23-07'!J15+'03-08'!J15+'10-08'!J15+'18-08'!J15+'24-08'!J15+'01-09'!J15+'08-09'!J15+'16-09'!J15+'23-09'!J15 -> 3449565.5 | K15: =SUM(B15:J15) -> 56966789
A16: COMUNA RURAL CUSHAMEN | B16: =+'01-07'!B16+'08-07'!B16+'15-07'!B16+'23-07'!B16+'03-08'!B16+'10-08'!B16+'18-08'!B16+'24-08'!B16+'01-09'!B16+'08-09'!B16+'16-09'!B16+'23-09'!B16 -> 0 | C16: =+'01-07'!C16+'08-07'!C16+'15-07'!C16+'23-07'!C16+'03-08'!C16+'10-08'!C16+'18-08'!C16+'24-08'!C16+'01-09'!C16+'08-09'!C16+'16-09'!C16+'23-09'!C16 -> 0 | D16: =+'01-07'!D16+'08-07'!D16+'15-07'!D16+'23-07'!D16+'03-08'!D16+'10-08'!D16+'18-08'!D16+'24-08'!D16+'01-09'!D16+'08-09'!D16+'16-09'!D16+'23-09'!D16 -> 0 | E16: =+'01-07'!E16+'08-07'!E16+'15-07'!E16+'23-07'!E16+'03-08'!E16+'10-08'!E16+'18-08'!E16+'24-08'!E16+'01-09'!E16+'08-09'!E16+'16-09'!E16+'23-09'!E16 -> 0 | F16: =+'01-07'!F16+'08-07'!F16+'15-07'!F16+'23-07'!F16+'03-08'!F16+'10-08'!F16+'18-08'!F16+'24-08'!F16+'01-09'!F16+'08-09'!F16+'16-09'!F16+'23-09'!F16 -> 81886897 | G16: =+'01-07'!G16+'08-07'!G16+'15-07'!G16+'23-07'!G16+'03-08'!G16+'10-08'!G16+'18-08'!G16+'24-08'!G16+'01-09'!G16+'08-09'!G16+'16-09'!G16+'23-09'!G16 -> 2675345.2 | H16: =+'01-07'!H16+'08-07'!H16+'15-07'!H16+'23-07'!H16+'03-08'!H16+'10-08'!H16+'18-08'!H16+'24-08'!H16+'01-09'!H16+'08-09'!H16+'16-09'!H16+'23-09'!H16 -> 0 | I16: =+'01-07'!I16+'08-07'!I16+'15-07'!I16+'23-07'!I16+'03-08'!I16+'10-08'!I16+'18-08'!I16+'24-08'!I16+'01-09'!I16+'08-09'!I16+'16-09'!I16+'23-09'!I16 -> 0 | J16: =+'01-07'!J16+'08-07'!J16+'15-07'!J16+'23-07'!J16+'03-08'!J16+'10-08'!J16+'18-08'!J16+'24-08'!J16+'01-09'!J16+'08-09'!J16+'16-09'!J16+'23-09'!J16 -> 5450637.7 | K16: =SUM(B16:J16) -> 90012880
A17: COMUNA RURAL DIQUE F. AMEGHINO | B17: =+'01-07'!B17+'08-07'!B17+'15-07'!B17+'23-07'!B17+'03-08'!B17+'10-08'!B17+'18-08'!B17+'24-08'!B17+'01-09'!B17+'08-09'!B17+'16-09'!B17+'23-09'!B17 -> 0 | C17: =+'01-07'!C17+'08-07'!C17+'15-07'!C17+'23-07'!C17+'03-08'!C17+'10-08'!C17+'18-08'!C17+'24-08'!C17+'01-09'!C17+'08-09'!C17+'16-09'!C17+'23-09'!C17 -> 0 | D17: =+'01-07'!D17+'08-07'!D17+'15-07'!D17+'23-07'!D17+'03-08'!D17+'10-08'!D17+'18-08'!D17+'24-08'!D17+'01-09'!D17+'08-09'!D17+'16-09'!D17+'23-09'!D17 -> 0 | E17: =+'01-07'!E17+'08-07'!E17+'15-07'!E17+'23-07'!E17+'03-08'!E17+'10-08'!E17+'18-08'!E17+'24-08'!E17+'01-09'!E17+'08-09'!E17+'16-09'!E17+'23-09'!E17 -> 0 | F17: =+'01-07'!F17+'08-07'!F17+'15-07'!F17+'23-07'!F17+'03-08'!F17+'10-08'!F17+'18-08'!F17+'24-08'!F17+'01-09'!F17+'08-09'!F17+'16-09'!F17+'23-09'!F17 -> 48813357 | G17: =+'01-07'!G17+'08-07'!G17+'15-07'!G17+'23-07'!G17+'03-08'!G17+'10-08'!G17+'18-08'!G17+'24-08'!G17+'01-09'!G17+'08-09'!G17+'16-09'!G17+'23-09'!G17 -> 1594792.1 | H17: =+'01-07'!H17+'08-07'!H17+'15-07'!H17+'23-07'!H17+'03-08'!H17+'10-08'!H17+'18-08'!H17+'24-08'!H17+'01-09'!H17+'08-09'!H17+'16-09'!H17+'23-09'!H17 -> 0 | I17: =+'01-07'!I17+'08-07'!I17+'15-07'!I17+'23-07'!I17+'03-08'!I17+'10-08'!I17+'18-08'!I17+'24-08'!I17+'01-09'!I17+'08-09'!I17+'16-09'!I17+'23-09'!I17 -> 0 | J17: =+'01-07'!J17+'08-07'!J17+'15-07'!J17+'23-07'!J17+'03-08'!J17+'10-08'!J17+'18-08'!J17+'24-08'!J17+'01-09'!J17+'08-09'!J17+'16-09'!J17+'23-09'!J17 -> 3249163.6 | K17: =SUM(B17:J17) -> 53657313
A18: COMUNA RURAL DR. ATILIO O. VIGLIONE | B18: =+'01-07'!B18+'08-07'!B18+'15-07'!B18+'23-07'!B18+'03-08'!B18+'10-08'!B18+'18-08'!B18+'24-08'!B18+'01-09'!B18+'08-09'!B18+'16-09'!B18+'23-09'!B18 -> 0 | C18: =+'01-07'!C18+'08-07'!C18+'15-07'!C18+'23-07'!C18+'03-08'!C18+'10-08'!C18+'18-08'!C18+'24-08'!C18+'01-09'!C18+'08-09'!C18+'16-09'!C18+'23-09'!C18 -> 0 | D18: =+'01-07'!D18+'08-07'!D18+'15-07'!D18+'23-07'!D18+'03-08'!D18+'10-08'!D18+'18-08'!D18+'24-08'!D18+'01-09'!D18+'08-09'!D18+'16-09'!D18+'23-09'!D18 -> 0 | E18: =+'01-07'!E18+'08-07'!E18+'15-07'!E18+'23-07'!E18+'03-08'!E18+'10-08'!E18+'18-08'!E18+'24-08'!E18+'01-09'!E18+'08-09'!E18+'16-09'!E18+'23-09'!E18 -> 0 | F18: =+'01-07'!F18+'08-07'!F18+'15-07'!F18+'23-07'!F18+'03-08'!F18+'10-08'!F18+'18-08'!F18+'24-08'!F18+'01-09'!F18+'08-09'!F18+'16-09'!F18+'23-09'!F18 -> 48282055 | G18: =+'01-07'!G18+'08-07'!G18+'15-07'!G18+'23-07'!G18+'03-08'!G18+'10-08'!G18+'18-08'!G18+'24-08'!G18+'01-09'!G18+'08-09'!G18+'16-09'!G18+'23-09'!G18 -> 1577433.9 | H18: =+'01-07'!H18+'08-07'!H18+'15-07'!H18+'23-07'!H18+'03-08'!H18+'10-08'!H18+'18-08'!H18+'24-08'!H18+'01-09'!H18+'08-09'!H18+'16-09'!H18+'23-09'!H18 -> 0 | I18: =+'01-07'!I18+'08-07'!I18+'15-07'!I18+'23-07'!I18+'03-08'!I18+'10-08'!I18+'18-08'!I18+'24-08'!I18+'01-09'!I18+'08-09'!I18+'16-09'!I18+'23-09'!I18 -> 6115205.8 | J18: =+'01-07'!J18+'08-07'!J18+'15-07'!J18+'23-07'!J18+'03-08'!J18+'10-08'!J18+'18-08'!J18+'24-08'!J18+'01-09'!J18+'08-09'!J18+'16-09'!J18+'23-09'!J18 -> 3213798.5 | K18: =SUM(B18:J18) -> 59188493
... A53: MUNICIPALIDAD DE TREVELIN | B53: =+'01-07'!B53+'08-07'!B53+'15-07'!B53+'23-07'!B53+'03-08'!B53+'10-08'!B53+'18-08'!B53+'24-08'!B53+'01-09'!B53+'08-09'!B53+'16-09'!B53+'23-09'!B53 -> 4.3515959e+08 | C53: =+'01-07'!C53+'08-07'!C53+'15-07'!C53+'23-07'!C53+'03-08'!C53+'10-08'!C53+'18-08'!C53+'24-08'!C53+'01-09'!C53+'08-09'!C53+'16-09'!C53+'23-09'!C53 -> 76605598 | D53: =+'01-07'!D53+'08-07'!D53+'15-07'!D53+'23-07'!D53+'03-08'!D53+'10-08'!D53+'18-08'!D53+'24-08'!D53+'01-09'!D53+'08-09'!D53+'16-09'!D53+'23-09'!D53 -> 17494810 | E53: =+'01-07'!E53+'08-07'!E53+'15-07'!E53+'23-07'!E53+'03-08'!E53+'10-08'!E53+'18-08'!E53+'24-08'!E53+'01-09'!E53+'08-09'!E53+'16-09'!E53+'23-09'!E53 -> 55010511 | F53: =+'01-07'!F53+'08-07'!F53+'15-07'!F53+'23-07'!F53+'03-08'!F53+'10-08'!F53+'18-08'!F53+'24-08'!F53+'01-09'!F53+'08-09'!F53+'16-09'!F53+'23-09'!F53 -> 423602533 | G53: =+'01-07'!G53+'08-07'!G53+'15-07'!G53+'23-07'!G53+'03-08'!G53+'10-08'!G53+'18-08'!G53+'24-08'!G53+'01-09'!G53+'08-09'!G53+'16-09'!G53+'23-09'!G53 -> 13839613 | H53: =+'01-07'!H53+'08-07'!H53+'15-07'!H53+'23-07'!H53+'03-08'!H53+'10-08'!H53+'18-08'!H53+'24-08'!H53+'01-09'!H53+'08-09'!H53+'16-09'!H53+'23-09'!H53 -> 42192098 | I53: =+'01-07'!I53+'08-07'!I53+'15-07'!I53+'23-07'!I53+'03-08'!I53+'10-08'!I53+'18-08'!I53+'24-08'!I53+'01-09'!I53+'08-09'!I53+'16-09'!I53+'23-09'!I53 -> 0 | J53: =+'01-07'!J53+'08-07'!J53+'15-07'!J53+'23-07'!J53+'03-08'!J53+'10-08'!J53+'18-08'!J53+'24-08'!J53+'01-09'!J53+'08-09'!J53+'16-09'!J53+'23-09'!J53 -> 28196256 | K53: =SUM(B53:J53) -> 1.092101e+09
A54: TOTALES | B54: =SUM(B7:B53) -> 2.3565449e+10 | C54: =SUM(C7:C53) -> 4.1484673e+09 | D54: =SUM(D7:D53) -> 9.4740656e+08 | E54: =SUM(E7:E53) -> 1.6940124e+08 | F54: =SUM(F7:F53) -> 2.2137577e+10 | G54: =SUM(G7:G53) -> 7.2326174e+08 | H54: =SUM(H7:H53) -> 1.4310168e+09 | I54: =SUM(I7:I53) -> 9.2096474e+09 | ... K54: =SUM(K7:K53) -> 6.3805771e+10
B56: =+'01-07'!B54+'08-07'!B54+'15-07'!B54+'23-07'!B54+'03-08'!B54+'10-08'!B54+'18-08'!B54+'24-08'!B54+'01-09'!B54+'08-09'!B54+'16-09'!B54+'23-09'!B54 -> 2.3565449e+10 | C56: =+'01-07'!C54+'08-07'!C54+'15-07'!C54+'23-07'!C54+'03-08'!C54+'10-08'!C54+'18-08'!C54+'24-08'!C54+'01-09'!C54+'08-09'!C54+'16-09'!C54+'23-09'!C54 -> 4.1484673e+09 | D56: =+'01-07'!D54+'08-07'!D54+'15-07'!D54+'23-07'!D54+'03-08'!D54+'10-08'!D54+'18-08'!D54+'24-08'!D54+'01-09'!D54+'08-09'!D54+'16-09'!D54+'23-09'!D54 -> 9.4740656e+08 | E56: =+'01-07'!E54+'08-07'!E54+'15-07'!E54+'23-07'!E54+'03-08'!E54+'10-08'!E54+'18-08'!E54+'24-08'!E54+'01-09'!E54+'08-09'!E54+'16-09'!E54+'23-09'!E54 -> 1.6940124e+08 | F56: =+'01-07'!F54+'08-07'!F54+'15-07'!F54+'23-07'!F54+'03-08'!F54+'10-08'!F54+'18-08'!F54+'24-08'!F54+'01-09'!F54+'08-09'!F54+'16-09'!F54+'23-09'!F54 -> 2.2137577e+10 | G56: =+'01-07'!G54+'08-07'!G54+'15-07'!G54+'23-07'!G54+'03-08'!G54+'10-08'!G54+'18-08'!G54+'24-08'!G54+'01-09'!G54+'08-09'!G54+'16-09'!G54+'23-09'!G54 -> 7.2326174e+08 | H56: =+'01-07'!H54+'08-07'!H54+'15-07'!H54+'23-07'!H54+'03-08'!H54+'10-08'!H54+'18-08'!H54+'24-08'!H54+'01-09'!H54+'08-09'!H54+'16-09'!H54+'23-09'!H54 -> 1.4310168e+09 | I56: =+'01-07'!I54+'08-07'!I54+'15-07'!I54+'23-07'!I54+'03-08'!I54+'10-08'!I54+'18-08'!I54+'24-08'!I54+'01-09'!I54+'08-09'!I54+'16-09'!I54+'23-09'!I54 -> 9.2096474e+09 | ... K56: =+'01-07'!K54+'08-07'!K54+'15-07'!K54+'23-07'!K54+'03-08'!K54+'10-08'!K54+'18-08'!K54+'24-08'!K54+'01-09'!K54+'08-09'!K54+'16-09'!K54+'23-09'!K54 -> 6.3805771e+10
B57: =+B54-B56 -> 0 | C57: =+C54-C56 -> 0 | D57: =+D54-D56 -> 0 | E57: =+E54-E56 -> 0 | F57: =+F54-F56 -> 0 | G57: =+G54-G56 -> 0 | H57: =+H54-H56 -> 0 | I57: =+I54-I56 -> 0 | ... K57: =+K54-K56 -> 0

Sheet Total Acumulado 2026
A1: Coparticipación a Municipio
A2: Acumulado anual 2026
A5: Municipios / Comunas | B5: Copar. Federal Impuestos LEY N°177 | C5: Consenso Fiscal | D5: Consenso Fiscal | E5: Regalias Hidroeléctricas | F5: Regalías Petroleras | G5: Regalías Gasíferas | H5: IIBB | I5: Bono Compensación Inc. A | J5: Bono Compensación Inc. B | K5: Total
C6: Punto I c) | D6: Punto II a) | E6: Bruto | F6: Bruto | G6: Bruto | K6: Bruto
A7: COMISION DE FOMENTO DE 28 DE JULIO | B7: =+'[2]Total Acumulado 2026'!B7+'Total Trimestre'!B7 -> 4.9033397e+08 | C7: =+'[2]Total Acumulado 2026'!C7+'Total Trimestre'!C7 -> 86098649 | D7: =+'[2]Total Acumulado 2026'!D7+'Total Trimestre'!D7 -> 15802561 | E7: =+'[2]Total Acumulado 2026'!E7+'Total Trimestre'!E7 -> 2584514.4 | F7: =+'[2]Total Acumulado 2026'!F7+'Total Trimestre'!F7 -> 3.8628256e+08 | G7: =+'[2]Total Acumulado 2026'!G7+'Total Trimestre'!G7 -> 9414748.9 | H7: =+'[2]Total Acumulado 2026'!H7+'Total Trimestre'!H7 -> 49516017 | I7: =+'[2]Total Acumulado 2026'!I7+'Total Trimestre'!I7 -> 0 | J7: =+'[2]Total Acumulado 2026'!J7+'Total Trimestre'!J7 -> 24521214 | K7: =SUM(B7:J7) -> 1.0645542e+09
A8: COMISION DE FOMENTO DE PTO. PIRAMIDES | B8: =+'[2]Total Acumulado 2026'!B8+'Total Trimestre'!B8 -> 4.6345803e+08 | C8: =+'[2]Total Acumulado 2026'!C8+'Total Trimestre'!C8 -> 81379453 | D8: =+'[2]Total Acumulado 2026'!D8+'Total Trimestre'!D8 -> 14936399 | E8: =+'[2]Total Acumulado 2026'!E8+'Total Trimestre'!E8 -> 2434812.8 | F8: =+'[2]Total Acumulado 2026'!F8+'Total Trimestre'!F8 -> 3.4741335e+08 | G8: =+'[2]Total Acumulado 2026'!G8+'Total Trimestre'!G8 -> 8467401.4 | H8: =+'[2]Total Acumulado 2026'!H8+'Total Trimestre'!H8 -> 48343678 | I8: =+'[2]Total Acumulado 2026'!I8+'Total Trimestre'!I8 -> 0 | J8: =+'[2]Total Acumulado 2026'!J8+'Total Trimestre'!J8 -> 22053797 | K8: =SUM(B8:J8) -> 9.8848692e+08
A9: COMUNA RURAL ALDEA APELEG | B9: =+'[2]Total Acumulado 2026'!B9+'Total Trimestre'!B9 -> 0 | C9: =+'[2]Total Acumulado 2026'!C9+'Total Trimestre'!C9 -> 0 | D9: =+'[2]Total Acumulado 2026'!D9+'Total Trimestre'!D9 -> 0 | E9: =+'[2]Total Acumulado 2026'!E9+'Total Trimestre'!E9 -> 0 | F9: =+'[2]Total Acumulado 2026'!F9+'Total Trimestre'!F9 -> 1.3499599e+08 | G9: =+'[2]Total Acumulado 2026'!G9+'Total Trimestre'!G9 -> 3290216.8 | H9: =+'[2]Total Acumulado 2026'!H9+'Total Trimestre'!H9 -> 0 | I9: =+'[2]Total Acumulado 2026'!I9+'Total Trimestre'!I9 -> 13911925 | J9: =+'[2]Total Acumulado 2026'!J9+'Total Trimestre'!J9 -> 8569544.6 | K9: =SUM(B9:J9) -> 1.6076768e+08
A10: COMUNA RURAL ALDEA BELEIRO | B10: =+'[2]Total Acumulado 2026'!B10+'Total Trimestre'!B10 -> 0 | C10: =+'[2]Total Acumulado 2026'!C10+'Total Trimestre'!C10 -> 0 | D10: =+'[2]Total Acumulado 2026'!D10+'Total Trimestre'!D10 -> 0 | E10: =+'[2]Total Acumulado 2026'!E10+'Total Trimestre'!E10 -> 0 | F10: =+'[2]Total Acumulado 2026'!F10+'Total Trimestre'!F10 -> 1.428586e+08 | G10: =+'[2]Total Acumulado 2026'!G10+'Total Trimestre'!G10 -> 3481849.9 | H10: =+'[2]Total Acumulado 2026'!H10+'Total Trimestre'!H10 -> 0 | I10: =+'[2]Total Acumulado 2026'!I10+'Total Trimestre'!I10 -> 20654052 | J10: =+'[2]Total Acumulado 2026'!J10+'Total Trimestre'!J10 -> 9068663.2 | K10: =SUM(B10:J10) -> 1.7606317e+08
A11: COMUNA RURAL ALDEA EPULEF | B11: =+'[2]Total Acumulado 2026'!B11+'Total Trimestre'!B11 -> 0 | C11: =+'[2]Total Acumulado 2026'!C11+'Total Trimestre'!C11 -> 0 | D11: =+'[2]Total Acumulado 2026'!D11+'Total Trimestre'!D11 -> 0 | E11: =+'[2]Total Acumulado 2026'!E11+'Total Trimestre'!E11 -> 0 | F11: =+'[2]Total Acumulado 2026'!F11+'Total Trimestre'!F11 -> 1.3842003e+08 | G11: =+'[2]Total Acumulado 2026'!G11+'Total Trimestre'!G11 -> 3373669.9 | H11: =+'[2]Total Acumulado 2026'!H11+'Total Trimestre'!H11 -> 0 | I11: =+'[2]Total Acumulado 2026'!I11+'Total Trimestre'!I11 -> 0 | J11: =+'[2]Total Acumulado 2026'!J11+'Total Trimestre'!J11 -> 8786902.7 | K11: =SUM(B11:J11) -> 1.505806e+08
A12: COMUNA RURAL BUEN PASTO | B12: =+'[2]Total Acumulado 2026'!B12+'Total Trimestre'!B12 -> 0 | C12: =+'[2]Total Acumulado 2026'!C12+'Total Trimestre'!C12 -> 0 | D12: =+'[2]Total Acumulado 2026'!D12+'Total Trimestre'!D12 -> 0 | E12: =+'[2]Total Acumulado 2026'!E12+'Total Trimestre'!E12 -> 0 | F12: =+'[2]Total Acumulado 2026'!F12+'Total Trimestre'!F12 -> 1.2947948e+08 | G12: =+'[2]Total Acumulado 2026'!G12+'Total Trimestre'!G12 -> 3155764.5 | H12: =+'[2]Total Acumulado 2026'!H12+'Total Trimestre'!H12 -> 0 | I12: =+'[2]Total Acumulado 2026'!I12+'Total Trimestre'!I12 -> 9132059.3 | J12: =+'[2]Total Acumulado 2026'!J12+'Total Trimestre'!J12 -> 8219356.5 | K12: =SUM(B12:J12) -> 1.4998666e+08
A13: COMUNA RURAL CARRENLEUFU | B13: =+'[2]Total Acumulado 2026'!B13+'Total Trimestre'!B13 -> 0 | C13: =+'[2]Total Acumulado 2026'!C13+'Total Trimestre'!C13 -> 0 | D13: =+'[2]Total Acumulado 2026'!D13+'Total Trimestre'!D13 -> 0 | E13: =+'[2]Total Acumulado 2026'!E13+'Total Trimestre'!E13 -> 0 | F13: =+'[2]Total Acumulado 2026'!F13+'Total Trimestre'!F13 -> 1.5642795e+08 | G13: =+'[2]Total Acumulado 2026'!G13+'Total Trimestre'!G13 -> 3812571.5 | H13: =+'[2]Total Acumulado 2026'!H13+'Total Trimestre'!H13 -> 0 | I13: =+'[2]Total Acumulado 2026'!I13+'Total Trimestre'!I13 -> 0 | J13: =+'[2]Total Acumulado 2026'!J13+'Total Trimestre'!J13 -> 9930045.3 | K13: =SUM(B13:J13) -> 1.7017057e+08
A14: COMUNA RURAL CERRO CENTINELA | B14: =+'[2]Total Acumulado 2026'!B14+'Total Trimestre'!B14 -> 0 | C14: =+'[2]Total Acumulado 2026'!C14+'Total Trimestre'!C14 -> 0 | D14: =+'[2]Total Acumulado 2026'!D14+'Total Trimestre'!D14 -> 0 | E14: =+'[2]Total Acumulado 2026'!E14+'Total Trimestre'!E14 -> 0 | F14: =+'[2]Total Acumulado 2026'!F14+'Total Trimestre'!F14 -> 1.273236e+08 | G14: =+'[2]Total Acumulado 2026'!G14+'Total Trimestre'!G14 -> 3103219.9 | H14: =+'[2]Total Acumulado 2026'!H14+'Total Trimestre'!H14 -> 0 | I14: =+'[2]Total Acumulado 2026'!I14+'Total Trimestre'!I14 -> 0 | J14: =+'[2]Total Acumulado 2026'!J14+'Total Trimestre'!J14 -> 8082501.4 | K14: =SUM(B14:J14) -> 1.3850932e+08
A15: COMUNA RURAL COLAN CONHUE | B15: =+'[2]Total Acumulado 2026'!B15+'Total Trimestre'!B15 -> 0 | C15: =+'[2]Total Acumulado 2026'!C15+'Total Trimestre'!C15 -> 0 | D15: =+'[2]Total Acumulado 2026'!D15+'Total Trimestre'!D15 -> 0 | E15: =+'[2]Total Acumulado 2026'!E15+'Total Trimestre'!E15 -> 0 | F15: =+'[2]Total Acumulado 2026'!F15+'Total Trimestre'!F15 -> 1.4843852e+08 | G15: =+'[2]Total Acumulado 2026'!G15+'Total Trimestre'!G15 -> 3617847.6 | H15: =+'[2]Total Acumulado 2026'!H15+'Total Trimestre'!H15 -> 0 | I15: =+'[2]Total Acumulado 2026'!I15+'Total Trimestre'!I15 -> 0 | J15: =+'[2]Total Acumulado 2026'!J15+'Total Trimestre'!J15 -> 9422876.4 | K15: =SUM(B15:J15) -> 1.6147925e+08
A16: COMUNA RURAL CUSHAMEN | B16: =+'[2]Total Acumulado 2026'!B16+'Total Trimestre'!B16 -> 0 | C16: =+'[2]Total Acumulado 2026'!C16+'Total Trimestre'!C16 -> 0 | D16: =+'[2]Total Acumulado 2026'!D16+'Total Trimestre'!D16 -> 0 | E16: =+'[2]Total Acumulado 2026'!E16+'Total Trimestre'!E16 -> 0 | F16: =+'[2]Total Acumulado 2026'!F16+'Total Trimestre'!F16 -> 2.3454681e+08 | G16: =+'[2]Total Acumulado 2026'!G16+'Total Trimestre'!G16 -> 5716539.1 | H16: =+'[2]Total Acumulado 2026'!H16+'Total Trimestre'!H16 -> 0 | I16: =+'[2]Total Acumulado 2026'!I16+'Total Trimestre'!I16 -> 0 | J16: =+'[2]Total Acumulado 2026'!J16+'Total Trimestre'!J16 -> 14889030 | K16: =SUM(B16:J16) -> 2.5515238e+08
A17: COMUNA RURAL DIQUE F. AMEGHINO | B17: =+'[2]Total Acumulado 2026'!B17+'Total Trimestre'!B17 -> 0 | C17: =+'[2]Total Acumulado 2026'!C17+'Total Trimestre'!C17 -> 0 | D17: =+'[2]Total Acumulado 2026'!D17+'Total Trimestre'!D17 -> 0 | E17: =+'[2]Total Acumulado 2026'!E17+'Total Trimestre'!E17 -> 0 | F17: =+'[2]Total Acumulado 2026'!F17+'Total Trimestre'!F17 -> 1.3981501e+08 | G17: =+'[2]Total Acumulado 2026'!G17+'Total Trimestre'!G17 -> 3407669.3 | H17: =+'[2]Total Acumulado 2026'!H17+'Total Trimestre'!H17 -> 0 | I17: =+'[2]Total Acumulado 2026'!I17+'Total Trimestre'!I17 -> 0 | J17: =+'[2]Total Acumulado 2026'!J17+'Total Trimestre'!J17 -> 8875456 | K17: =SUM(B17:J17) -> 1.5209814e+08
A18: COMUNA RURAL DR. ATILIO O. VIGLIONE | B18: =+'[2]Total Acumulado 2026'!B18+'Total Trimestre'!B18 -> 0 | C18: =+'[2]Total Acumulado 2026'!C18+'Total Trimestre'!C18 -> 0 | D18: =+'[2]Total Acumulado 2026'!D18+'Total Trimestre'!D18 -> 0 | E18: =+'[2]Total Acumulado 2026'!E18+'Total Trimestre'!E18 -> 0 | F18: =+'[2]Total Acumulado 2026'!F18+'Total Trimestre'!F18 -> 1.3829321e+08 | G18: =+'[2]Total Acumulado 2026'!G18+'Total Trimestre'!G18 -> 3370579 | H18: =+'[2]Total Acumulado 2026'!H18+'Total Trimestre'!H18 -> 0 | I18: =+'[2]Total Acumulado 2026'!I18+'Total Trimestre'!I18 -> 16704373 | J18: =+'[2]Total Acumulado 2026'!J18+'Total Trimestre'!J18 -> 8778852.4 | K18: =SUM(B18:J18) -> 1.6714702e+08
... A53: MUNICIPALIDAD DE TREVELIN | B53: =+'[2]Total Acumulado 2026'!B53+'Total Trimestre'!B53 -> 1.1228307e+09 | C53: =+'[2]Total Acumulado 2026'!C53+'Total Trimestre'!C53 -> 1.9715993e+08 | D53: =+'[2]Total Acumulado 2026'!D53+'Total Trimestre'!D53 -> 36186767 | E53: =+'[2]Total Acumulado 2026'!E53+'Total Trimestre'!E53 -> 1.4776097e+08 | F53: =+'[2]Total Acumulado 2026'!F53+'Total Trimestre'!F53 -> 1.2133153e+09 | G53: =+'[2]Total Acumulado 2026'!G53+'Total Trimestre'!G53 -> 29571770 | H53: =+'[2]Total Acumulado 2026'!H53+'Total Trimestre'!H53 -> 1.2043642e+08 | I53: =+'[2]Total Acumulado 2026'!I53+'Total Trimestre'!I53 -> 0 | J53: =+'[2]Total Acumulado 2026'!J53+'Total Trimestre'!J53 -> 77021247 | K53: =SUM(B53:J53) -> 2.9442831e+09
A54: TOTALES | B54: =SUM(B7:B53) -> 6.0805304e+10 | C54: =SUM(C7:C53) -> 1.0676916e+10 | D54: =SUM(D7:D53) -> 1.959643e+09 | E54: =SUM(E7:E53) -> 4.5502014e+08 | F54: =SUM(F7:F53) -> 6.3408168e+10 | G54: =SUM(G7:G53) -> 1.5454283e+09 | H54: =SUM(H7:H53) -> 4.0848059e+09 | I54: =SUM(I7:I53) -> 25157188192 | ... K54: =SUM(K7:K53) -> 1.7211762e+11
